BEGIN:VCALENDAR
VERSION:2.0
PRODID:-//ChamberMaster//Event Calendar 2.0//EN
METHOD:PUBLISH
X-PUBLISHED-TTL:P3D
REFRESH-INTERVAL:P3D
CALSCALE:GREGORIAN
BEGIN:VEVENT
DTSTART:20150925T013000Z
DTEND:20151115T043000Z
X-MICROSOFT-CDO-ALLDAYEVENT:FALSE
SUMMARY:BARNUM\, A MUSICAL
DESCRIPTION:Barnum\, Musical\, Nov. 5-7\; 10-14\, PG\, book by Mark Bramble\, lyrics by Michael Stewart\, and music by Cy Coleman\, through special arrangements with Tams-Whitmark\, Inc. Phineas Barnum attempts to create a circus in which the main attractions are freaks of society. Eventually\, to appease his wife\, he gives up the show. After she dies\, Barnum returns to the business\, forming a partnership with James Baily\, to bring us ?The Greatest Show on Earth?. Directed by Dr. Kathryn Syssoyeva.
X-ALT-DESC;FMTTYPE=text/html:Barnum\, Musical\, Nov. 5-7\; 10-14\, PG\, book by Mark Bramble\, lyrics by Michael Stewart\, and music by Cy Coleman\, through special arrangements with Tams-Whitmark\, Inc. Phineas Barnum attempts to create a circus in which the main attractions are freaks of society. Eventually\, to appease his wife\, he gives up the show. After she dies\, Barnum returns to the business\, forming a partnership with James Baily\, to bring us ?The Greatest Show on Earth?. Directed by Dr. Kathryn Syssoyeva.
LOCATION:Corner of 700 East and 100 South\, DSU Campus\, Eccles Black Box
UID:e.1117.7082
SEQUENCE:3
DTSTAMP:20260420T064839Z
URL:https://business.stgeorgechamber.com/events/details/barnum-a-musical-09-24-2015-7082
END:VEVENT

END:VCALENDAR
