BEGIN:VCALENDAR
VERSION:2.0
PRODID:-//ChamberMaster//Event Calendar 2.0//EN
METHOD:PUBLISH
X-PUBLISHED-TTL:P3D
REFRESH-INTERVAL:P3D
CALSCALE:GREGORIAN
BEGIN:VEVENT
DTSTART;VALUE=DATE:20151031
DTEND;VALUE=DATE:20151101
TRANSP:TRANSPARENT
X-MICROSOFT-CDO-ALLDAYEVENT:TRUE
SUMMARY:Bands of America
DESCRIPTION:This event is sponsored by a national band organization called Bands of America\, a branch of Music For All Corporation.  The corporation headquarters is in Indianapolis\, IN.  They sponsor 15 Regional Championship Marching Band Competitions throughout the United States leading up to the Grand National Championship held in Indianapolis on November 12-15\, 2014.  This event is the St. George Regional Championship for the western region of the United States. \n\nThe competition is designed to have a Preliminary Competition beginning in the morning at 8 a.m. in which each of the 27 registered bands will perform.  Following these judged performances an award assembly will be held at 4:30 p.m.  The top 12 scoring bands will be announced to compete in the Finals Competition that will begin at 7:00 p.m. and end about 10:00 p.m.
X-ALT-DESC;FMTTYPE=text/html:<span style="font-size:11.0pt\;">This event is sponsored by a national band organization called Bands of America\, a branch of Music For All Corporation.&nbsp\; The corporation headquarters is in Indianapolis\, IN.&nbsp\; They sponsor 15 Regional Championship Marching Band Competitions throughout the United States leading up to the Grand National Championship held in Indianapolis on November 12-15\, 2014.&nbsp\; This event is the St. George Regional Championship for the western region of the United States. </span><br />\n<span style="font-size:11.0pt\;">The competition is designed to have a Preliminary Competition beginning in the morning at 8 a.m. in which each of the 27 registered bands will perform.&nbsp\; Following these judged performances an award assembly will be held at 4:30 p.m.&nbsp\; The top 12 scoring bands will be announced to compete in the Finals Competition that will begin at 7:00 p.m. and end about 10:00 p.m. &nbsp\;</span>
LOCATION:Dixie State University Hansen Stadium St. George\, UT
UID:e.1117.7270
SEQUENCE:3
DTSTAMP:20260420T065144Z
URL:https://business.stgeorgechamber.com/events/details/bands-of-america-10-31-2015-7270
END:VEVENT

END:VCALENDAR
