BEGIN:VCALENDAR
VERSION:2.0
PRODID:-//ChamberMaster//Event Calendar 2.0//EN
METHOD:PUBLISH
X-PUBLISHED-TTL:P3D
REFRESH-INTERVAL:P3D
CALSCALE:GREGORIAN
BEGIN:VEVENT
DTSTART:20140911T153000Z
DTEND:20140911T173000Z
X-MICROSOFT-CDO-ALLDAYEVENT:FALSE
SUMMARY:Assistance League of Southern Utah
DESCRIPTION:500 PLUS CHILDREN!!! We are gearing up for our Operation School Bell where we'll be providing new school clothes and shoes for needy children in Washington County. Please join us for our optional breakfast and/or 10am business meeting. KIDS + CLOTHES = SMILES!!!
X-ALT-DESC;FMTTYPE=text/html:500 PLUS CHILDREN!!! We are gearing up for our Operation School Bell where we&#39\;ll be providing new school clothes and shoes for needy children in Washington County. Please join us for our optional breakfast and/or 10am business meeting. KIDS + CLOTHES = SMILES!!!
LOCATION:Abbey Inn...St. George.
UID:e.1117.5298
SEQUENCE:3
DTSTAMP:20260421T043638Z
URL:https://business.stgeorgechamber.com/events/details/assistance-league-of-southern-utah-09-11-2014-5298
END:VEVENT

END:VCALENDAR
