BEGIN:VCALENDAR
VERSION:2.0
PRODID:-//ChamberMaster//Event Calendar 2.0//EN
METHOD:PUBLISH
X-PUBLISHED-TTL:P3D
REFRESH-INTERVAL:P3D
CALSCALE:GREGORIAN
BEGIN:VEVENT
DTSTART:20160207T003000Z
DTEND:20160207T030000Z
X-MICROSOFT-CDO-ALLDAYEVENT:FALSE
SUMMARY:Assistance League Annual Spring Benefit Dinner & Auction
DESCRIPTION:Assistance League of Southern Utah will be hosting their Annual Spring Benefit Dinner & Auction featuring local country artist Eric Dodge. There will be a live auction\, silent auction and opportunity drawings for wonderful items. The public is welcome to attend this event.  Fundraising is our main source of revenue to help facilitate our programs. All proceeds from this event stay in Washington County and are used to benefit children in need.\n\n\n\nAssistance League of Southern Utah is an all-volunteer organization whose mission is to help enrich the lives of children in the Washington County by providing new school clothes\, shoes\, hygiene kits\, and books.  Children are referred to our signature program\, Operation School Bell\, by school counselors and teachers who interact with these children on a regular basis and can readily assess their needs.\n\n\n\nChildren who participate in Operation School Bell program are so excited to be able to shop for their new clothes.  By providing the basic needs for these children\, they feel more confident in themselves and do better in school. This program shows children we support them and their education and that going to and staying in school will make a difference in their future. Since 2008 we have helped over 3500 children to a brighter future.\n\n\n\nTo learn more about who we are and our programs and get more information and tickets for our Annual Spring Benefit\, please visit our web site: www.alofsu.org or call 435-668-9399.  \n\nKids + Clothes = Smiles
X-ALT-DESC;FMTTYPE=text/html:<span style="color:#000000\;"><span style="font-size:14px\;"><span style="font-family:arial\;">Assistance League of Southern Utah will be hosting their Annual Spring Benefit Dinner &amp\; Auction featuring local country artist Eric Dodge. There will be a live auction\, silent auction and opportunity drawings for wonderful items. The public is welcome to attend this event. &nbsp\;Fundraising is our main source of revenue to help facilitate our programs. All proceeds from this event stay in Washington County and are used to benefit children in need.<br />\n<br />\nAssistance League of Southern Utah is an all-volunteer organization whose mission is to help enrich the lives of children in the Washington County by providing new school clothes\, shoes\, hygiene kits\, and books. &nbsp\;Children are referred to our signature program\, Operation School Bell\, by school counselors and teachers who interact with these children on a regular basis and can readily assess their needs.<br />\n<br />\nChildren who participate in Operation School Bell program are so excited to be able to shop for their new clothes. &nbsp\;By providing the basic needs for these children\, they feel more confident in themselves and do better in school. This program shows children we support them and their education and that going to and staying in school will make a difference in their future. Since 2008 we have helped over 3500 children to a brighter future.<br />\n<br />\nTo learn more about who we are and our programs and get more information and tickets for our Annual Spring Benefit\, please visit our web site: www.alofsu.org or call 435-668-9399. &nbsp\;<br />\nKids + Clothes = Smiles</span></span></span>
LOCATION:SunRiver St. George Ballroom
UID:e.1117.7400
SEQUENCE:3
DTSTAMP:20260419T234344Z
URL:https://business.stgeorgechamber.com/events/details/assistance-league-annual-spring-benefit-dinner-auction-02-06-2016-7400
END:VEVENT

END:VCALENDAR
