BEGIN:VCALENDAR
VERSION:2.0
PRODID:-//ChamberMaster//Event Calendar 2.0//EN
METHOD:PUBLISH
X-PUBLISHED-TTL:P3D
REFRESH-INTERVAL:P3D
CALSCALE:GREGORIAN
BEGIN:VEVENT
DTSTART:20140321T220000Z
DTEND:20140323T030000Z
X-MICROSOFT-CDO-ALLDAYEVENT:FALSE
SUMMARY:Aspire Dance Competition
DESCRIPTION:Aspire Dance Pro dance competition is a fun\, family-friendly competition for local and surrounding area studios.
X-ALT-DESC;FMTTYPE=text/html:Aspire Dance Pro dance competition is a fun\, family-friendly competition for local and surrounding area studios.
LOCATION:Dixie High School
UID:e.1117.4320
SEQUENCE:3
DTSTAMP:20260421T141005Z
URL:https://business.stgeorgechamber.com/events/details/aspire-dance-competition-03-21-2014-4320
END:VEVENT

END:VCALENDAR
