BEGIN:VCALENDAR
VERSION:2.0
PRODID:-//ChamberMaster//Event Calendar 2.0//EN
METHOD:PUBLISH
X-PUBLISHED-TTL:P3D
REFRESH-INTERVAL:P3D
CALSCALE:GREGORIAN
BEGIN:VEVENT
DTSTART:20150318T174500Z
DTEND:20150318T190000Z
X-MICROSOFT-CDO-ALLDAYEVENT:FALSE
SUMMARY:ASID Intermountain St. George Design Community Luncheon
DESCRIPTION:ASID Intermountain Chapter serving Utah\, Idaho\, Wyoming and Montanais proud to announce our first Southern Utah Interior Designer Luncheon. Come meet other local designers and Industry Partners and enjoy a sponsored lunch.\n\n\n\nWe would like to introduce you to your ASID Design Community Leaders. Starring\, Marianne Bozzi- Sax\, the Director of Communications for the Intermountain Chapter of ASID. And featuring Tamra Mecham Carter\, the Design Community Chair. And together\, they working to help you build your business through building a community of support\, educational seminars\, fun events and networking. \n\n\n\nWednesday\, March 18th from 11:45 - 1pm\, at the newly remodeled\, Hamilton Park Interiors\, at 2 West St. George Blvd in beautiful Ancestor Square. (Right above Painted Pony).
X-ALT-DESC;FMTTYPE=text/html:ASID Intermountain Chapter serving Utah\, Idaho\, Wyoming and Montanais proud to announce our first <strong>Southern Utah Interior Designer Luncheon</strong>. Come meet other local designers and Industry Partners and enjoy a <em>sponsored lunch</em>.<br />\n<br />\nWe would like to introduce you to your ASID Design Community Leaders. Starring\,&nbsp\;Marianne Bozzi- Sax\, the Director of Communications for the Intermountain Chapter of ASID. And featuring&nbsp\;Tamra Mecham Carter\, the Design Community Chair. <u>And together\, they working to help you build your business through building a community of support\, educational seminars\, fun events and networking.&nbsp\;</u><br />\n<br />\n<strong>Wednesday\, March 18th from 11:45 - 1pm\, at the newly remodeled\, Hamilton Park Interiors\, at 2 West St. George Blvd in beautiful Ancestor Square. (Right above Painted Pony).</strong>
LOCATION:Hamilton Park Interiors in Ancestor Square Downtown St. George - 2 W St. George Blvd. Right above the Painted Pony.
UID:e.1117.6337
SEQUENCE:3
DTSTAMP:20260420T190911Z
URL:https://business.stgeorgechamber.com/events/details/asid-intermountain-st-george-design-community-luncheon-03-18-2015-6337
END:VEVENT

END:VCALENDAR
