BEGIN:VCALENDAR
VERSION:2.0
PRODID:-//ChamberMaster//Event Calendar 2.0//EN
METHOD:PUBLISH
X-PUBLISHED-TTL:P3D
REFRESH-INTERVAL:P3D
CALSCALE:GREGORIAN
BEGIN:VEVENT
DTSTART:20150118T200000Z
DTEND:20150119T010000Z
X-MICROSOFT-CDO-ALLDAYEVENT:FALSE
SUMMARY:Arts to Zion Studio Tour
DESCRIPTION:The Arts to Zion Artist's Studio Tour spans from Springdale to St. George and on to Kayenta!  Come join the excitement and visit all three locations.\n\n\nThe "Arts to Zion" Artists Studio Tour/ Washington County\, Utah is a self-guided art adventure  though our beautiful\, mountainous\, breathtaking countryside.\n\n\n\nExplore Washington County\, Utah where History Resonates\, and Creativity Soars with a free\, self-guided gallery tour of visual art showcased in a variety of historical\, small-town venues.
X-ALT-DESC;FMTTYPE=text/html:<p><span style="font-size:14px\;"><span style="font-family: arial\;">The Arts to Zion Artist&rsquo\;s Studio Tour spans from Springdale to St. George and on to Kayenta!&nbsp\; Come join the excitement and visit all three locations.</span></span></p>\n\n<div>\n<p><span style="font-size:14px\;"><span style="font-family: arial\;"><span style="color: rgb(0\, 0\, 0)\;">The </span><span style="color: rgb(0\, 0\, 0)\;"><strong>&ldquo\;Arts to Zion&rdquo\; Artists Studio Tour</strong></span><span style="color: rgb(0\, 0\, 0)\;">/ Washington County\, Utah is a self-guided art adventure&nbsp\; though our beautiful\, mountainous\, breathtaking countryside.</span></span></span></p>\n</div>\n\n<div>\n<p><span style="font-size:14px\;"><span style="font-family: arial\;">Explore Washington County\, Utah where History Resonates\, and Creativity Soars with a free\, self-guided gallery tour of visual art showcased in a variety of historical\, small-town venues.</span></span></p>\n</div>\n
LOCATION:
UID:e.1117.6258
SEQUENCE:3
DTSTAMP:20260420T215902Z
URL:https://business.stgeorgechamber.com/events/details/arts-to-zion-studio-tour-01-18-2015-6258
END:VEVENT

END:VCALENDAR
