BEGIN:VCALENDAR
VERSION:2.0
PRODID:-//ChamberMaster//Event Calendar 2.0//EN
METHOD:PUBLISH
X-PUBLISHED-TTL:P3D
REFRESH-INTERVAL:P3D
CALSCALE:GREGORIAN
BEGIN:VEVENT
DTSTART:20160114T170000Z
DTEND:20160119T040000Z
X-MICROSOFT-CDO-ALLDAYEVENT:FALSE
SUMMARY:Arts to Zion Studio
DESCRIPTION:Washington County Arts to Zion Studio Tour Jan. 14-18\, 2016 The "Arts to Zion" Artists Studio Tour is a self-guided art adventure you don't want to miss. There will be a "Parade of Home Studios" where ticket holders can visit artists in their working environment & see what inspires their imagination. While spending time with your favorite artists\, enjoy the beautiful mountains and breathtaking countryside of Washington County\, Utah. A Silent Auction will be on display in Downtown St. George featuring original pieces of artwork created by this year's participating artists. This annual event will take place during the Martin Luther King weekend.
X-ALT-DESC;FMTTYPE=text/html:Washington County Arts to Zion Studio Tour Jan. 14-18\, 2016 The &quot\;Arts to Zion&quot\; Artists Studio Tour is a self-guided art adventure you don&#39\;t want to miss. There will be a &quot\;Parade of Home Studios&quot\; where ticket holders can visit artists in their working environment &amp\; see what inspires their imagination. While spending time with your favorite artists\, enjoy the beautiful mountains and breathtaking countryside of Washington County\, Utah. A Silent Auction will be on display in Downtown St. George featuring original pieces of artwork created by this year&#39\;s participating artists. This annual event will take place during the Martin Luther King weekend.
LOCATION:Main Street Theater Building- Arts to Zion Information Center 35 Main St. St George\, UT 84770
UID:e.1117.7395
SEQUENCE:3
DTSTAMP:20260420T012731Z
URL:https://business.stgeorgechamber.com/events/details/arts-to-zion-studio-01-14-2016-7395
END:VEVENT

END:VCALENDAR
