BEGIN:VCALENDAR
VERSION:2.0
PRODID:-//ChamberMaster//Event Calendar 2.0//EN
METHOD:PUBLISH
X-PUBLISHED-TTL:P3D
REFRESH-INTERVAL:P3D
CALSCALE:GREGORIAN
BEGIN:VEVENT
DTSTART:20150302T180000Z
DTEND:20150401T000000Z
X-MICROSOFT-CDO-ALLDAYEVENT:FALSE
SUMMARY:Art Is What You Make It-Student Art Show
DESCRIPTION:The Olive Brooks Esplin Art Gallery March 1-31\, 2015 Through a grant from ZIONS Bank and the Business of Art Program at Dixie State University we are dedicating the month of March 2015 to a Southern Utah Student Art Exhibit "Art Is What You Make It" in the Olive Brooks Esplin Art Gallery at the DiFiore Center in St. George. We will celebrate an opening gala reception and present scholarship awards for student artists on Saturday\, February 28\, 2015\, 6:00-9:00 p.m. On Saturday\, March 28 we will invite students to bring art pieces for a "Student Art Fair" where people can purchase students work.
X-ALT-DESC;FMTTYPE=text/html:The Olive Brooks Esplin Art Gallery March 1-31\, 2015 Through a grant from ZIONS Bank and the Business of Art Program at Dixie State University we are dedicating the month of March 2015 to a Southern Utah Student Art Exhibit &quot\;Art Is What You Make It&quot\; in the Olive Brooks Esplin Art Gallery at the DiFiore Center in St. George. We will celebrate an opening gala reception and present scholarship awards for student artists on Saturday\, February 28\, 2015\, 6:00-9:00 p.m. On Saturday\, March 28 we will invite students to bring art pieces for a &quot\;Student Art Fair&quot\; where people can purchase students work.
LOCATION:The DiFiore Center
UID:e.1117.6268
SEQUENCE:3
DTSTAMP:20260420T204521Z
URL:https://business.stgeorgechamber.com/events/details/art-is-what-you-make-it-student-art-show-03-02-2015-6268
END:VEVENT

END:VCALENDAR
