BEGIN:VCALENDAR
VERSION:2.0
PRODID:-//ChamberMaster//Event Calendar 2.0//EN
METHOD:PUBLISH
X-PUBLISHED-TTL:P3D
REFRESH-INTERVAL:P3D
CALSCALE:GREGORIAN
BEGIN:VEVENT
DTSTART:20141012T160000Z
DTEND:20141012T230000Z
X-MICROSOFT-CDO-ALLDAYEVENT:FALSE
SUMMARY:Art in Kayenta
DESCRIPTION:Set against the dramatic panorama of the Red Mountains\, Art in Kayenta Festival celebrates its 15th year with incredible Art\, Free admission\, great Entertainment\, a Silent Auction\, Art in the Moment & Live Auction\, yummy Food and always Fun!
X-ALT-DESC;FMTTYPE=text/html:Set against the dramatic panorama of the Red Mountains\, Art in Kayenta Festival celebrates its 15th year with incredible Art\, Free admission\, great Entertainment\, a Silent Auction\, Art in the Moment &amp\; Live Auction\, yummy Food and always Fun!
LOCATION:Coyote Gulch 800 N. Kayenta Parkway Ivins
UID:e.1117.6156
SEQUENCE:3
DTSTAMP:20260421T042706Z
URL:https://business.stgeorgechamber.com/events/details/art-in-kayenta-10-12-2014-6156
END:VEVENT

END:VCALENDAR
