BEGIN:VCALENDAR
VERSION:2.0
PRODID:-//ChamberMaster//Event Calendar 2.0//EN
METHOD:PUBLISH
X-PUBLISHED-TTL:P3D
REFRESH-INTERVAL:P3D
CALSCALE:GREGORIAN
BEGIN:VEVENT
DTSTART:20151009T170000Z
DTEND:20151011T230000Z
X-MICROSOFT-CDO-ALLDAYEVENT:FALSE
SUMMARY:ART IN KAYENTA
DESCRIPTION:The Kayenta Arts Foundation based in Ivins\, Utah\, announces the 2015 Art in Kayenta Festival will be held Oct. 9th\, 10th and 11th this year. It will feature new extended hours: Friday and Saturday Art In Kayenta Festival is from 11am-7pm Friday and Saturday and on Sunday from 11am-5pm. The Festival will feature over 75 Artists from across the country\, live music\, specialty food vendors and the return of the popular Beer and Wine Garden. It will also include both a live auction event and an expanded silent auction this year.
X-ALT-DESC;FMTTYPE=text/html:The Kayenta Arts Foundation based in Ivins\, Utah\, announces the 2015 Art in Kayenta Festival will be held Oct. 9th\, 10th and 11th this year. It will feature new extended hours: Friday and Saturday Art In Kayenta Festival is from 11am-7pm Friday and Saturday and on Sunday from 11am-5pm. The Festival will feature over 75 Artists from across the country\, live music\, specialty food vendors and the return of the popular Beer and Wine Garden. It will also include both a live auction event and an expanded silent auction this year.
LOCATION:Kayenta Art Village 800 Kayenta Parkway Ivins\, UT
UID:e.1117.7100
SEQUENCE:3
DTSTAMP:20260420T065014Z
URL:https://business.stgeorgechamber.com/events/details/art-in-kayenta-10-09-2015-7100
END:VEVENT

END:VCALENDAR
