BEGIN:VCALENDAR
VERSION:2.0
PRODID:-//ChamberMaster//Event Calendar 2.0//EN
METHOD:PUBLISH
X-PUBLISHED-TTL:P3D
REFRESH-INTERVAL:P3D
CALSCALE:GREGORIAN
BEGIN:VEVENT
DTSTART:20160722T010000Z
DTEND:20160722T020000Z
X-MICROSOFT-CDO-ALLDAYEVENT:FALSE
SUMMARY:Art Conversations at the St. George Art Museum
DESCRIPTION:Art Conversation with Stars Over the National Parks with Astronomer Ron Smith.
X-ALT-DESC;FMTTYPE=text/html:Art Conversation with Stars Over the National Parks with Astronomer Ron Smith.
LOCATION:St. George Art Museum 47 E 200 No St George\, UT
UID:e.1117.8595
SEQUENCE:3
DTSTAMP:20260419T165346Z
URL:https://business.stgeorgechamber.com/events/details/art-conversations-at-the-st-george-art-museum-07-21-2016-8595
END:VEVENT

END:VCALENDAR
