BEGIN:VCALENDAR
VERSION:2.0
PRODID:-//ChamberMaster//Event Calendar 2.0//EN
METHOD:PUBLISH
X-PUBLISHED-TTL:P3D
REFRESH-INTERVAL:P3D
CALSCALE:GREGORIAN
BEGIN:VEVENT
DTSTART:20160520T010000Z
DTEND:20160520T020000Z
X-MICROSOFT-CDO-ALLDAYEVENT:FALSE
SUMMARY:Art Conversations at the St. George Art Museum
DESCRIPTION:Art Conversation with Erin Hanson\, featured Open Impressionist Painter and featured artist at the museum. You do not want to miss the opportunity to come hear Erin speak about her wonderful art.
X-ALT-DESC;FMTTYPE=text/html:Art Conversation with Erin Hanson\, featured Open Impressionist Painter and featured artist at the museum. You do not want to miss the opportunity to come hear Erin speak about her wonderful art.
LOCATION:St. George Art Museum 47 E 200 No St George\, UT
UID:e.1117.8594
SEQUENCE:3
DTSTAMP:20260419T183450Z
URL:https://business.stgeorgechamber.com/events/details/art-conversations-at-the-st-george-art-museum-05-19-2016-8594
END:VEVENT

END:VCALENDAR
