BEGIN:VCALENDAR
VERSION:2.0
PRODID:-//ChamberMaster//Event Calendar 2.0//EN
METHOD:PUBLISH
X-PUBLISHED-TTL:P3D
REFRESH-INTERVAL:P3D
CALSCALE:GREGORIAN
BEGIN:VEVENT
DTSTART:20160613T190000Z
DTEND:20160616T200000Z
X-MICROSOFT-CDO-ALLDAYEVENT:FALSE
SUMMARY:Art Adventures for ages 7-11
DESCRIPTION:Four consecutive days of fun and art for children ages 7-11 to come draw\, color\, paint and create art at the St. George Art Museum.
X-ALT-DESC;FMTTYPE=text/html:Four consecutive days of fun and art for children ages 7-11 to come draw\, color\, paint and create art at the St. George Art Museum.
LOCATION:St. George Art Museum 47 E 200 No St. George\, UT
UID:e.1117.8592
SEQUENCE:3
DTSTAMP:20260419T183301Z
URL:https://business.stgeorgechamber.com/events/details/art-adventures-for-ages-7-11-06-13-2016-8592
END:VEVENT

END:VCALENDAR
