BEGIN:VCALENDAR
VERSION:2.0
PRODID:-//ChamberMaster//Event Calendar 2.0//EN
METHOD:PUBLISH
X-PUBLISHED-TTL:P3D
REFRESH-INTERVAL:P3D
CALSCALE:GREGORIAN
BEGIN:VEVENT
DTSTART:20160627T190000Z
DTEND:20160630T200000Z
X-MICROSOFT-CDO-ALLDAYEVENT:FALSE
SUMMARY:Art Adventure for ages 7-11
DESCRIPTION:Come explore art at the St George Art Museum for four consecutive days\, one hour/day. Students will be drawing\, coloring\, painting and creating. Ages 7-11
X-ALT-DESC;FMTTYPE=text/html:Come explore art at the St George Art Museum for four consecutive days\, one hour/day. Students will be drawing\, coloring\, painting and creating. Ages 7-11
LOCATION:St. George Art Museum 47 E 200 No St. George\, UT 84770
UID:e.1117.8593
SEQUENCE:3
DTSTAMP:20260419T183301Z
URL:https://business.stgeorgechamber.com/events/details/art-adventure-for-ages-7-11-06-27-2016-8593
END:VEVENT

END:VCALENDAR
