BEGIN:VCALENDAR
VERSION:2.0
PRODID:-//ChamberMaster//Event Calendar 2.0//EN
METHOD:PUBLISH
X-PUBLISHED-TTL:P3D
REFRESH-INTERVAL:P3D
CALSCALE:GREGORIAN
BEGIN:VEVENT
DTSTART;VALUE=DATE:20131207
DTEND;VALUE=DATE:20131208
TRANSP:TRANSPARENT
X-MICROSOFT-CDO-ALLDAYEVENT:TRUE
SUMMARY:Annual Christmas Party
DESCRIPTION:This year at ARTe's Christmas Party we will be having games\, prizes\, carrot cake and other yummy delights.\n\nMassages Courtesy of St. George Massage.\n\nThere will be a magic show at 2p.m. and voting for your favorite gingerbread house.\n\n2:30 the Gingerbread Houses will be auctioned off for the United Methodist Church Charity.
X-ALT-DESC;FMTTYPE=text/html:This year at ARTe&#39\;s Christmas Party we will be having games\, prizes\, carrot cake and other yummy delights.<br />\nMassages Courtesy of St. George Massage.<br />\nThere will be a magic show at 2p.m. and voting for your favorite gingerbread house.<br />\n2:30 the Gingerbread Houses will be auctioned off for the United Methodist Church Charity.
LOCATION:415 S. Dixie Dr.
UID:e.1117.4985
SEQUENCE:3
DTSTAMP:20260421T171146Z
URL:https://business.stgeorgechamber.com/events/details/annual-christmas-party-12-07-2013-4985
END:VEVENT

END:VCALENDAR
