BEGIN:VCALENDAR
VERSION:2.0
PRODID:-//ChamberMaster//Event Calendar 2.0//EN
METHOD:PUBLISH
X-PUBLISHED-TTL:P3D
REFRESH-INTERVAL:P3D
CALSCALE:GREGORIAN
BEGIN:VEVENT
DTSTART:20150205T023000Z
DTEND:20150205T043000Z
X-MICROSOFT-CDO-ALLDAYEVENT:FALSE
SUMMARY:Angéle Dubeau & La Pietá
DESCRIPTION:Ang le Dubeau & La Piet  is a string orchestra with piano\, composed of all top-ranking female musicians\, amongst the best in the country. The excellence\, precision and strength of each one\, as well as the closeness that they have with each other\, grant them and exceptional ensemble sound. The Peninsula Review of SanFrancisco says: "La Piet  is one of the finest string ensembles I have ever heard... Each time one of its players had an important solo\, it was gorgeous... Concertmaster Dubeau played with stirring artistry. She is a master of her instrument with glorious tone\, easy technical mastery and a fabulous command of harmonics..."
X-ALT-DESC;FMTTYPE=text/html:Ang&eacute\;le Dubeau &amp\; La Piet&aacute\; is a string orchestra with piano\, composed of all top-ranking female musicians\, amongst the best in the country. The excellence\, precision and strength of each one\, as well as the closeness that they have with each other\, grant them and exceptional ensemble sound. The Peninsula Review of SanFrancisco says: &quot\;La Piet&aacute\; is one of the finest string ensembles I have ever heard... Each time one of its players had an important solo\, it was gorgeous... Concertmaster Dubeau played with stirring artistry. She is a master of her instrument with glorious tone\, easy technical mastery and a fabulous command of harmonics...&quot\;
LOCATION:Cox Performing Arts Center 385 South University Avenue
UID:e.1117.6210
SEQUENCE:3
DTSTAMP:20260420T205106Z
URL:https://business.stgeorgechamber.com/events/details/ang&#233;le-dubeau-la-piet&#225;-02-04-2015-6210
END:VEVENT

END:VCALENDAR
