BEGIN:VCALENDAR
VERSION:2.0
PRODID:-//ChamberMaster//Event Calendar 2.0//EN
METHOD:PUBLISH
X-PUBLISHED-TTL:P3D
REFRESH-INTERVAL:P3D
CALSCALE:GREGORIAN
BEGIN:VEVENT
DTSTART:20140327T173000Z
DTEND:20140327T190000Z
X-MICROSOFT-CDO-ALLDAYEVENT:FALSE
SUMMARY:American Red Cross Heroes Event
DESCRIPTION:The American Red Cross in Utah recognizes and honors outstanding individuals or groups in Southern Utah that have demonstrated extraordinary courage\, compassion and service. How are Heroes honored? During our Heroes Awards events the Heroes contributions come to life. Heartwarming stories unfold as the audience watches video interviews that tell the story of each Hero\, and witness the awards ceremonies.
X-ALT-DESC;FMTTYPE=text/html:The American Red Cross in Utah recognizes and honors outstanding individuals or groups in Southern Utah that have demonstrated extraordinary courage\, compassion and service. How are Heroes honored? During our Heroes Awards events the Heroes contributions come to life. Heartwarming stories unfold as the audience watches video interviews that tell the story of each Hero\, and witness the awards ceremonies.
LOCATION:Gardner Center on the campus of Dixie State University.
UID:e.1117.5060
SEQUENCE:3
DTSTAMP:20260421T125858Z
URL:https://business.stgeorgechamber.com/events/details/american-red-cross-heroes-event-03-27-2014-5060
END:VEVENT

END:VCALENDAR
