BEGIN:VCALENDAR
VERSION:2.0
PRODID:-//ChamberMaster//Event Calendar 2.0//EN
METHOD:PUBLISH
X-PUBLISHED-TTL:P3D
REFRESH-INTERVAL:P3D
CALSCALE:GREGORIAN
BEGIN:VEVENT
DTSTART:20130404T173000Z
DTEND:20130404T190000Z
X-MICROSOFT-CDO-ALLDAYEVENT:FALSE
SUMMARY:American Red Cross Heroes Award Luncheon
DESCRIPTION:The American Red Cross will host the 2013 Heroes Award Luncheon honoring nine heroes in southern Utah. These Heroes embody the fundamental principles of the American Red Cross. Their selflessness\, caring and courage have saved lives and made our communities safer. The event serves as a recognition ceremony for the selected Heroes\, but the overall goal of the events is to raise awareness and funds for the American Red Cross in southern Utah.  Nine Heroes from Southern Utah awards will be honored including Jeff Dial who will receive a Lifetime Achievement award for his contributions to the community.
X-ALT-DESC;FMTTYPE=text/html:The American Red Cross will host the 2013 Heroes Award Luncheon honoring nine heroes in southern Utah. These Heroes embody the fundamental principles of the American Red Cross. Their selflessness\, caring and courage have saved lives and made our communities safer. The event serves as a recognition ceremony for the selected Heroes\, but the overall goal of the events is to raise awareness and funds for the American Red Cross in southern Utah.&nbsp\; <span style="font-family:arial\,sans-serif\;"><span style="font-size:10.0pt\;">Nine Heroes from Southern Utah awards will be honored including Jeff Dial who will receive a Lifetime Achievement award for his contributions to the community.&nbsp\;</span></span>
LOCATION:The Gardner Center at Dixie State University
UID:e.1117.2655
SEQUENCE:3
DTSTAMP:20260422T062031Z
URL:https://business.stgeorgechamber.com/events/details/american-red-cross-heroes-award-luncheon-04-04-2013-2655
END:VEVENT

END:VCALENDAR
