BEGIN:VCALENDAR
VERSION:2.0
PRODID:-//ChamberMaster//Event Calendar 2.0//EN
METHOD:PUBLISH
X-PUBLISHED-TTL:P3D
REFRESH-INTERVAL:P3D
CALSCALE:GREGORIAN
BEGIN:VEVENT
DTSTART:20160407T173000Z
DTEND:20160407T190000Z
X-MICROSOFT-CDO-ALLDAYEVENT:FALSE
SUMMARY:American Red Cross Community Heroes Award Luncheon
DESCRIPTION:Every day\, ordinary people make extraordinary contributions by putting their needs aside to help others in our community. The American Red Cross is honored to salute these unsung heroes. Your hero might be a lifeguard who saved a drowning child\, an ordinary citizen who performed CPR when a stranger collapsed at a shopping mall\, or who saved a neighbor's beloved pets from a fire.\n\nThe awards are presented by the Utah Region of the American Red Cross with the generous support of our sponsors.\n\n\n\nOutstanding Community Partner - Smith's Food and Drug Stores\n\nPartnership with Red Cross Celebrated at all Utah Hero Recognition Events\n\nLifetime Achievement: Lamont Smith \n\nRetired Kane County Sheriff Honored for his Lifetime of Service  \n\nCommunity Impact: Sid Young\n\nLocal Psychologist Counsels Grief Stricken Community after Flood Claims Lives\n\nCommunity Service: LuAnn Lundquist \n\nAlzheimer's and Dementia Society Founder Recognized for Her Dedication \n\nFamily Hero:  Autumn Shipp and Britt Shipp \n\nBrother and Sister Inspire One Another and Impact Community as a Result\n\nFirst Responder: Daniel Nelson \n\nSanta Clara Fire Chief Risks His Life on Busy Freeway to Save Others\n\nGood Samaritan: Michael Kartchner \n\nDevoted Red Cross Volunteer Responds to Local and National Disasters\n\nMilitary: Johnnie Johnson  \n\nVietnam Veteran Makes and Donates Wood Products to Local Organizations\n\nPreparedness: Julie Meron\n\nUtah Emergency Animal Response Leader Prepares Community for Disasters\n\nYouth/Young Adult: Aryn Feikert\n\nDSU Star Athlete Guides Community Support
X-ALT-DESC;FMTTYPE=text/html:<p align="LEFT"><span style="color:#000000\;">Every day\, ordinary people make extraordinary contributions by putting their needs aside to help others in our community. The American Red Cross is honored to salute these unsung heroes. Your hero might be a lifeguard who saved a drowning child\, an ordinary citizen who performed CPR when a stranger collapsed at a shopping mall\, or who saved a neighbor&rsquo\;s beloved pets from a fire.</span></p>\n\n<p align="LEFT"><span style="color:#000000\;"><span style="line-height: 1.6\;">The awards are presented by the Utah Region of the American Red Cross with the generous support of our sponsors.</span><br />\n<br />\n<strong><em><u><span style="font-size:12.0pt\;">Outstanding Community Partner</span></u></em></strong><strong><em><span style="font-size:12.0pt\;"> - </span></em></strong><span style="font-size:12.0pt\;">Smith&rsquo\;s Food and Drug Stores</span><br />\n<em><span style="font-size:12.0pt\;">Partnership with Red Cross Celebrated at all Utah Hero Recognition Events</span></em><br />\n<strong><em><u><span style="font-size:12.0pt\;">Lifetime Achievement:</span></u></em></strong>&nbsp\;<span style="font-size:12.0pt\;">Lamont Smith </span><br />\n<span style="font-size:12.0pt\;">Retired Kane County Sheriff Honored for his Lifetime of Service&nbsp\; </span><br />\n<strong><em><u><span style="font-size:12.0pt\;">Community Impact:</span></u></em></strong> <span style="font-size:12.0pt\;">Sid Young</span><br />\n<span style="font-size:12.0pt\;">Local Psychologist Counsels Grief Stricken Community after Flood Claims Lives</span><br />\n<strong><em><u><span style="font-size:12.0pt\;">Community Service:</span></u></em></strong>&nbsp\;<span style="font-size:12.0pt\;">LuAnn Lundquist </span><br />\n<span style="font-size:12.0pt\;">Alzheimer&rsquo\;s and Dementia Society Founder Recognized for Her Dedication </span><br />\n<strong><em><u><span style="font-size:12.0pt\;">Family Hero</span></u></em></strong><strong><em><u><span style="font-size:12.0pt\;">:</span></u></em></strong><span style="font-size:12.0pt\;">&nbsp\; Autumn Shipp and Britt Shipp </span><br />\n<span style="font-size:12.0pt\;">Brother and Sister Inspire One Another and Impact Community as a Result</span><br />\n<strong><em><u><span style="font-size:12.0pt\;">First Responder:</span></u></em></strong>&nbsp\;<span style="font-size:12.0pt\;">Daniel Nelson </span><br />\n<span style="font-size:12.0pt\;">Santa Clara Fire Chief Risks His Life on Busy Freeway to Save Others</span><br />\n<strong><em><u><span style="font-size:12.0pt\;">Good Samaritan:</span></u></em></strong>&nbsp\;<span style="font-size:12.0pt\;">Michael Kartchner </span><br />\n<span style="font-size:12.0pt\;">Devoted Red Cross Volunteer Responds to Local and National Disasters</span><br />\n<strong><em><u><span style="font-size:12.0pt\;">Military:</span></u></em></strong> <span style="font-size:12.0pt\;">Johnnie Johnson&nbsp\; </span><br />\n<span style="font-size:12.0pt\;">Vietnam Veteran Makes and Donates Wood Products to Local Organizations</span><br />\n<strong><em><u><span style="font-size:12.0pt\;">Preparedness:&nbsp\;</span></u></em></strong><span style="font-size:12.0pt\;">Julie Meron</span><br />\n<span style="font-size:12.0pt\;">Utah Emergency Animal Response Leader Prepares Community for Disasters</span><br />\n<strong><em><u><span style="font-size:12.0pt\;">Youth/Young Adult</span></u></em></strong><strong><em><span style="font-size:12.0pt\;">:&nbsp\;</span></em></strong><span style="font-size:12.0pt\;">Aryn Feikert</span><br />\n<span style="font-size:12.0pt\;">DSU Star Athlete Guides Community Support</span></span></p>\n
LOCATION:Hilton Garden Inn Ballroom 1731 S. Convention Center Drive St. George
UID:e.1117.8538
SEQUENCE:3
DTSTAMP:20260419T220141Z
URL:https://business.stgeorgechamber.com/events/details/american-red-cross-community-heroes-award-luncheon-04-07-2016-8538
END:VEVENT

END:VCALENDAR
