BEGIN:VCALENDAR
VERSION:2.0
PRODID:-//ChamberMaster//Event Calendar 2.0//EN
METHOD:PUBLISH
X-PUBLISHED-TTL:P3D
REFRESH-INTERVAL:P3D
CALSCALE:GREGORIAN
BEGIN:VEVENT
DTSTART:20150326T173000Z
DTEND:20150326T190000Z
X-MICROSOFT-CDO-ALLDAYEVENT:FALSE
SUMMARY:American Red Cross Community Heroes Award Luncheon
DESCRIPTION:Every day\, ordinary people make extraordinary contributions by putting their needs aside to help others in our community. The American Red Cross is honored to salute these unsung heroes. Your hero might be a lifeguard who saved a drowning child\, an ordinary citizen who performed CPR when a stranger collapsed at a shopping mall\, or who saved a neighbor's beloved pets from a fire.\n\nThe awards are presented by the Utah Region of the American Red Cross with the generous support of our sponsors.\n\n\n\nLifetime Achievement\n\nLee Bracken\, Three term Mayor and 30 year EMT of Enterprise\n\n\n\nCommunity Service Hero:  BACA of Southern Utah\n\nBikers Against Child Abuse that works to create a safe environment for abused kids.\n\n\n\nEducator Hero:  Curtis Larson\n\nTeaching hundreds of youth computer science skills\n\n\n\nFirst Responder Hero:  Adam Phillips\n\nAssumes responsibility of a widow whose husband dies after a call\n\n\n\nInternational Hero:  Tim & Penelope Eicher\n\nOn a trip to Peru\, they saw a need\, came home and raised funds\, adn went back to Peru to build.
X-ALT-DESC;FMTTYPE=text/html:<p align="LEFT">Every day\, ordinary people make extraordinary contributions by putting their needs aside to help others in our community. The American Red Cross is honored to salute these unsung heroes. Your hero might be a lifeguard who saved a drowning child\, an ordinary citizen who performed CPR when a stranger collapsed at a shopping mall\, or who saved a neighbor&rsquo\;s beloved pets from a fire.</p>\n\n<p align="LEFT"><span style="line-height: 1.6\;">The awards are presented by the Utah Region of the American Red Cross with the generous support of our sponsors.<br />\n<br />\nLifetime Achievement<br />\nLee Bracken\, Three term Mayor and 30 year EMT of Enterprise</span><br />\n<br />\nCommunity Service Hero: &nbsp\;BACA of Southern Utah<br />\nBikers Against Child Abuse that works to create a safe environment for abused kids.<br />\n<br />\nEducator Hero: &nbsp\;Curtis Larson<br />\nTeaching hundreds of youth computer science skills<br />\n<br />\nFirst Responder Hero: &nbsp\;Adam Phillips<br />\nAssumes responsibility&nbsp\;of a widow whose husband dies after a call<br />\n<br />\nInternational Hero: &nbsp\;Tim &amp\; Penelope Eicher<br />\nOn a trip to Peru\, they saw a need\, came home and raised funds\, adn went back to Peru to build.</p>\n
LOCATION:Hilton Garden Inn Ballroom 1731 S. Convention Center Drive St. George
UID:e.1117.6301
SEQUENCE:3
DTSTAMP:20260420T191153Z
URL:https://business.stgeorgechamber.com/events/details/american-red-cross-community-heroes-award-luncheon-03-26-2015-6301
END:VEVENT

END:VCALENDAR
