BEGIN:VCALENDAR
VERSION:2.0
PRODID:-//ChamberMaster//Event Calendar 2.0//EN
METHOD:PUBLISH
X-PUBLISHED-TTL:P3D
REFRESH-INTERVAL:P3D
CALSCALE:GREGORIAN
BEGIN:VEVENT
DTSTART:20141002T003000Z
DTEND:20141002T030000Z
X-MICROSOFT-CDO-ALLDAYEVENT:FALSE
SUMMARY:American Experience Film Screening of "Freedom Summer"
DESCRIPTION:Sundance Institute and KUED Channel 7 are proud to present the documentary Freedom Summer in St. George and Cedar City.  \n\n\n\n\n\nOver 10 memorable weeks in 1964 known as Freedom Summer\, more than 700 student volunteers from around the country joined organizers and local African Americans in a historic effort to shatter the foundations of white supremacy in what was one of the nation's most viciously racist\, segregated states.\n\n\n\n*Please note that the film's producer - Cyndee Readden - will attend. She will introduce her film and participate in post-screening Q&A.
X-ALT-DESC;FMTTYPE=text/html:<span style="font-family:arial\,sans-serif\;"><span style="font-size:10.0pt\;">Sundance Institute and KUED Channel 7 are proud to present the documentary<em>&nbsp\;<a href="http://www.kued.org/sundance" target="_blank">Freedom Summer</a></em>&nbsp\;in St. George and Cedar City.&nbsp\;</span></span>&nbsp\;<br />\n<br />\n<br />\nOver 10 memorable weeks in 1964 known as Freedom Summer\, more than 700 student volunteers from around the country joined organizers and local African Americans in a historic effort to shatter the foundations of white supremacy in what was one of the nation&rsquo\;s most viciously racist\, segregated states.<br />\n<br />\n<strong><span style="font-family:arial\,sans-serif\;"><span style="font-size:10.0pt\;">*Please note that the film&#39\;s producer - Cyndee Readden - will attend. She will introduce her film and participate in post-screening Q&amp\;A.</span></span></strong>
LOCATION:Eccles Theatre\, Dolores Dor Eccles Fine Arts Center Dixie State University 225 S. 700 E. St. George
UID:e.1117.6138
SEQUENCE:3
DTSTAMP:20260421T030252Z
URL:https://business.stgeorgechamber.com/events/details/american-experience-film-screening-of-freedom-summer-10-01-2014-6138
END:VEVENT

END:VCALENDAR
