BEGIN:VCALENDAR
VERSION:2.0
PRODID:-//ChamberMaster//Event Calendar 2.0//EN
METHOD:PUBLISH
X-PUBLISHED-TTL:P3D
REFRESH-INTERVAL:P3D
CALSCALE:GREGORIAN
BEGIN:VEVENT
DTSTART:20150425T000000Z
DTEND:20150425T180000Z
X-MICROSOFT-CDO-ALLDAYEVENT:FALSE
SUMMARY:American Cancer Society Relay For Life
DESCRIPTION:No matter who you are\, there's a place for you at Relay. Each dollar you raise will help save lives. How far will you go to make a difference in the fight against cancer?\n\nYour reasons for walking in the Relay For Life are as unique and special as the story that motivates you. This is your opportunity to not only honor cancer survivors and remember people we have lost\, but also to raise funds and awareness to help save lives. Because of your support\, we are creating a world where cancer can't claim another year of anyone's life. You are helping create a world with less cancer and more birthdays!
X-ALT-DESC;FMTTYPE=text/html:<p><span id="page_body_container">No matter who you are\, there&#39\;s a place for you at Relay. Each dollar you raise will help save lives. How far will you go to make a difference in the fight against cancer?</span></p>\n\n<p><span id="page_body_container">Your reasons for walking in the Relay For Life are as unique and special as the story that motivates you. This is your opportunity to not only honor cancer survivors and remember people we have lost\, but also to raise funds and awareness to help save lives. Because of your support\, we are creating a world where cancer can&#39\;t claim another year of anyone&#39\;s life. You are helping create a world with less cancer and more birthdays!</span></p>\n
LOCATION:Dixie State University Hansen Stadium
UID:e.1117.6290
SEQUENCE:3
DTSTAMP:20260420T191153Z
URL:https://business.stgeorgechamber.com/events/details/american-cancer-society-relay-for-life-04-24-2015-6290
END:VEVENT

END:VCALENDAR
