BEGIN:VCALENDAR
VERSION:2.0
PRODID:-//ChamberMaster//Event Calendar 2.0//EN
METHOD:PUBLISH
X-PUBLISHED-TTL:P3D
REFRESH-INTERVAL:P3D
CALSCALE:GREGORIAN
BEGIN:VEVENT
DTSTART:20260305T163000Z
DTEND:20260306T063000Z
X-MICROSOFT-CDO-ALLDAYEVENT:FALSE
SUMMARY:AMERICA250 FOOD DELIVERY CELEBRATION PROGRAM
DESCRIPTION:9:30 a.m.\n\n  Welcome & Remarks\n\nDr. David Dangerfield\, Switchpoint Board President\n\nMayor Jimmie Hughes\, City of St. George\n\nCommissioner Victor Iverson\, Washington County Commission\n\nRepresentative of the Church of Jesus Christ of Latter-day Saints\n\n \n\nStay after the program to help unload! No RSVP needed   all are welcome.\n\n\n\n \n\nThe Church of Jesus Christ of Latter-day Saints has chosen service as the heart of their America 250 celebration\, commissioning dedicated trucks across Utah to feed families in need. We are deeply honored that Switchpoint has been selected as one of the first organizations in Utah to receive one of these trucks\, and we will be making that announcement together at our pantry on March 5th at 9:30am. That truck will go straight to work\, helping feed hundreds of local families right here in our community.\n\nAs community members and leaders\, you have played a vital role in making Switchpoint's mission possible\, and we would love for you to be standing with us for this moment.\n\nJoining us will be St. George Mayor Jimmie Hughes\, Commissioner Victor Iverson\, leadership from The Church of Jesus Christ of Latter-day Saints\, and Switchpoint Board Chair Dr. David Dangerfield.
X-ALT-DESC;FMTTYPE=text/html:<p class="p1" style="margin: 0px\; font-variant-numeric: normal\; font-variant-east-asian: normal\; font-variant-alternates: normal\; font-kerning: auto\; font-optical-sizing: auto\; font-feature-settings: normal\; font-variation-settings: normal\; font-variant-position: normal\; font-stretch: normal\; font-size: 11px\; line-height: normal\; font-family: Helvetica\; color: rgb(255\, 255\, 255)\;"><span style="color:#000000\;"><span style="font-size:22px\;">9:30 a.m.</span></span></p>\n\n<p class="p1" style="margin: 0px\; font-variant-numeric: normal\; font-variant-east-asian: normal\; font-variant-alternates: normal\; font-kerning: auto\; font-optical-sizing: auto\; font-feature-settings: normal\; font-variation-settings: normal\; font-variant-position: normal\; font-stretch: normal\; font-size: 11px\; line-height: normal\; font-family: Helvetica\; color: rgb(255\, 255\, 255)\;"><span style="color:#000000\;"><span style="font-size:22px\;">&mdash\; Welcome &amp\; Remarks</span></span></p>\n\n<p class="p1" style="margin: 0px\; font-variant-numeric: normal\; font-variant-east-asian: normal\; font-variant-alternates: normal\; font-kerning: auto\; font-optical-sizing: auto\; font-feature-settings: normal\; font-variation-settings: normal\; font-variant-position: normal\; font-stretch: normal\; font-size: 11px\; line-height: normal\; font-family: Helvetica\; color: rgb(255\, 255\, 255)\;"><span style="color:#000000\;"><span style="font-size:22px\;">Dr. David Dangerfield\, Switchpoint Board President</span></span></p>\n\n<p class="p1" style="margin: 0px\; font-variant-numeric: normal\; font-variant-east-asian: normal\; font-variant-alternates: normal\; font-kerning: auto\; font-optical-sizing: auto\; font-feature-settings: normal\; font-variation-settings: normal\; font-variant-position: normal\; font-stretch: normal\; font-size: 11px\; line-height: normal\; font-family: Helvetica\; color: rgb(255\, 255\, 255)\;"><span style="color:#000000\;"><span style="font-size:22px\;">Mayor Jimmie Hughes\, City of St. George</span></span></p>\n\n<p class="p1" style="margin: 0px\; font-variant-numeric: normal\; font-variant-east-asian: normal\; font-variant-alternates: normal\; font-kerning: auto\; font-optical-sizing: auto\; font-feature-settings: normal\; font-variation-settings: normal\; font-variant-position: normal\; font-stretch: normal\; font-size: 11px\; line-height: normal\; font-family: Helvetica\; color: rgb(255\, 255\, 255)\;"><span style="color:#000000\;"><span style="font-size:22px\;">Commissioner Victor Iverson\, Washington County Commission</span></span></p>\n\n<p class="p1" style="margin: 0px\; font-variant-numeric: normal\; font-variant-east-asian: normal\; font-variant-alternates: normal\; font-kerning: auto\; font-optical-sizing: auto\; font-feature-settings: normal\; font-variation-settings: normal\; font-variant-position: normal\; font-stretch: normal\; font-size: 11px\; line-height: normal\; font-family: Helvetica\; color: rgb(255\, 255\, 255)\;"><span style="color:#000000\;"><span style="font-size:22px\;">Representative of the Church of Jesus Christ of Latter-day Saints</span></span><br />\n&nbsp\;</p>\n\n<p class="p2" style="margin: 0px\; font-variant-numeric: normal\; font-variant-east-asian: normal\; font-variant-alternates: normal\; font-kerning: auto\; font-optical-sizing: auto\; font-feature-settings: normal\; font-variation-settings: normal\; font-variant-position: normal\; font-stretch: normal\; font-size: 9px\; line-height: normal\; font-family: Helvetica\; color: rgb(250\, 185\, 53)\;"><span style="font-size:22px\;">Stay after the program to help unload! No RSVP needed &mdash\; all are welcome.</span><br />\n<br />\n&nbsp\;</p>\n\n<div style="color:rgb(34\, 34\, 34)\;font-family:Arial\, Helvetica\, sans-serif\;font-size:small\;margin-top:12pt\;margin-bottom:12pt\;"><span style="color:black\;">The Church of Jesus Christ of Latter-day Saints has chosen service as the heart of their America 250 celebration\, commissioning dedicated trucks across Utah to feed families in need. We are deeply honored that Switchpoint has been selected as one of the first organizations in Utah to receive one of these trucks\, and we will be making that announcement together at our pantry on March 5th at 9:30am. That truck will go straight to work\, helping feed hundreds of local families right here in our community.</span></div>\n\n<div style="color:rgb(34\, 34\, 34)\;font-family:Arial\, Helvetica\, sans-serif\;font-size:small\;margin-top:12pt\;margin-bottom:12pt\;"><span style="color:black\;">As community members and leaders\, you have played a vital role in making Switchpoint&#39\;s mission possible\, and we would love for you to be standing with us for this moment.</span></div>\n\n<div style="color:rgb(34\, 34\, 34)\;font-family:Arial\, Helvetica\, sans-serif\;font-size:small\;margin-top:12pt\;margin-bottom:12pt\;"><span style="color:black\;">Joining us will be St. George Mayor Jimmie Hughes\, Commissioner Victor Iverson\, leadership from The Church of Jesus Christ of Latter-day Saints\, and Switchpoint Board Chair Dr. David Dangerfield.</span></div>\n
LOCATION:Switchpoint Pantry
UID:e.1117.18647
SEQUENCE:3
DTSTAMP:20260421T112042Z
URL:https://business.stgeorgechamber.com/events/details/america250-food-delivery-celebration-program-18647
END:VEVENT

END:VCALENDAR
