BEGIN:VCALENDAR
VERSION:2.0
PRODID:-//ChamberMaster//Event Calendar 2.0//EN
METHOD:PUBLISH
X-PUBLISHED-TTL:P3D
REFRESH-INTERVAL:P3D
CALSCALE:GREGORIAN
BEGIN:VEVENT
DTSTART:20130417T200000Z
DTEND:20130418T000000Z
X-MICROSOFT-CDO-ALLDAYEVENT:FALSE
SUMMARY:Allconnect Career Fair
DESCRIPTION:Allconnect is currently hiring for inside sales positions!  Home Services Consultants field inbound calls and sell top name brands like Verizon\, AT&T\, Comcast\, Charter\, Dish Network\, DirectTV\, and ADT.  Top performing sales agents make over $25 an hour ($10/hour base + commission).  Allconnect is striving to be the employer of choice in the St. George area.  At Allconnect\, you'll have the opportunity to benefit financially and succeed professionally.  Benefits include:  paid time off\, medical\, dental\, vision\, disability insurance\, 401k\, and various performance incentives.\n\nFIRST--apply online at www.allconnect.com/corporate/careers.html\n\nSECOND--call 435-634-8911\n\nTHIRD--stop by the Career Fair!
X-ALT-DESC;FMTTYPE=text/html:Allconnect&nbsp\;is currently hiring for inside sales positions! &nbsp\;Home Services Consultants field inbound calls and sell top name brands like Verizon\, AT&amp\;T\, Comcast\, Charter\, Dish Network\, DirectTV\, and ADT. &nbsp\;Top performing sales agents make over $25 an hour ($10/hour base + commission). &nbsp\;Allconnect&nbsp\;is striving to be the employer of choice in the St. George area. &nbsp\;At Allconnect\, you&#39\;ll have the opportunity to benefit financially and succeed professionally. &nbsp\;Benefits include: &nbsp\;paid time off\, medical\, dental\, vision\, disability insurance\, 401k\, and various performance incentives.<br />\nFIRST--apply online at <a href="http://www.allconnect.com/corporate/careers.html">www.allconnect.com/corporate/careers.html</a><br />\nSECOND--call 435-634-8911<br />\nTHIRD--stop by the Career Fair!
LOCATION:1572 South Dixie Drive St. George\, UT
UID:e.1117.2935
SEQUENCE:3
DTSTAMP:20260422T061332Z
URL:https://business.stgeorgechamber.com/events/details/allconnect-career-fair-04-17-2013-2935
END:VEVENT

END:VCALENDAR
