BEGIN:VCALENDAR
VERSION:2.0
PRODID:-//ChamberMaster//Event Calendar 2.0//EN
METHOD:PUBLISH
X-PUBLISHED-TTL:P3D
REFRESH-INTERVAL:P3D
CALSCALE:GREGORIAN
BEGIN:VEVENT
DTSTART:20140112T020000Z
DTEND:20140112T050000Z
X-MICROSOFT-CDO-ALLDAYEVENT:FALSE
SUMMARY:All County/Honor Orchestras
DESCRIPTION:The best string players in WCSD auditioned for slots in these to great string orchestras. Conducted by DSU professors and WCSD string instructors.
X-ALT-DESC;FMTTYPE=text/html:The best string players in WCSD auditioned for slots in these to great string orchestras. Conducted by DSU professors and WCSD string instructors.<br />\n
LOCATION:Cox Auditorium Dixie State University
UID:e.1117.4997
SEQUENCE:3
DTSTAMP:20260421T165957Z
URL:https://business.stgeorgechamber.com/events/details/all-county-honor-orchestras-01-11-2014-4997
END:VEVENT

END:VCALENDAR
