BEGIN:VCALENDAR
VERSION:2.0
PRODID:-//ChamberMaster//Event Calendar 2.0//EN
METHOD:PUBLISH
X-PUBLISHED-TTL:P3D
REFRESH-INTERVAL:P3D
CALSCALE:GREGORIAN
BEGIN:VEVENT
DTSTART:20140119T020000Z
DTEND:20140119T050000Z
X-MICROSOFT-CDO-ALLDAYEVENT:FALSE
SUMMARY:All County/Honor Choirs
DESCRIPTION:Auditioned by individual schools and selected by conductors\, these choral students from high and middle schools in WCSD will perform with guest conductors Norman and Sue Lister.
X-ALT-DESC;FMTTYPE=text/html:Auditioned by individual schools and selected by conductors\, these choral students from high and middle schools in WCSD will perform with guest conductors Norman and Sue Lister.<br />\n
LOCATION:Cox Auditorium Dixie State University
UID:e.1117.4998
SEQUENCE:3
DTSTAMP:20260421T154038Z
URL:https://business.stgeorgechamber.com/events/details/all-county-honor-choirs-01-18-2014-4998
END:VEVENT

END:VCALENDAR
