BEGIN:VCALENDAR
VERSION:2.0
PRODID:-//ChamberMaster//Event Calendar 2.0//EN
METHOD:PUBLISH
X-PUBLISHED-TTL:P3D
REFRESH-INTERVAL:P3D
CALSCALE:GREGORIAN
BEGIN:VEVENT
DTSTART:20140105T020000Z
DTEND:20140105T050000Z
X-MICROSOFT-CDO-ALLDAYEVENT:FALSE
SUMMARY:All County/Honor Band
DESCRIPTION:The best wind band high school and middle school student in the county have auditioned for a place in these bands.  Hosted by DSU and directed by DSU band instructors.
X-ALT-DESC;FMTTYPE=text/html:The best wind band high school and middle school student in the county&nbsp\;have auditioned for a place in these bands.&nbsp\; Hosted by DSU and directed by DSU band instructors.<br />\n<br />\n
LOCATION:Cox Auditorium Dixie State University
UID:e.1117.4996
SEQUENCE:3
DTSTAMP:20260421T165954Z
URL:https://business.stgeorgechamber.com/events/details/all-county-honor-band-01-04-2014-4996
END:VEVENT

END:VCALENDAR
