BEGIN:VCALENDAR
VERSION:2.0
PRODID:-//ChamberMaster//Event Calendar 2.0//EN
METHOD:PUBLISH
X-PUBLISHED-TTL:P3D
REFRESH-INTERVAL:P3D
CALSCALE:GREGORIAN
BEGIN:VEVENT
DTSTART:20150411T160000Z
DTEND:20150411T230000Z
X-MICROSOFT-CDO-ALLDAYEVENT:FALSE
SUMMARY:All About Baby Expo
DESCRIPTION:Informative and educational\, the All About Baby Expo will offer informational booths\, vendors with products for babies and moms\, mini classes and presentations\, a demo area\, kids corner with giveaways and more!
X-ALT-DESC;FMTTYPE=text/html:Informative and educational\, the All About Baby Expo will offer informational booths\, vendors with products for babies and moms\, mini classes and presentations\, a demo area\, kids corner with giveaways and more! &nbsp\;
LOCATION:Dixie Convention Center 1835 Convention Center Dr.
UID:e.1117.6372
SEQUENCE:3
DTSTAMP:20260420T172914Z
URL:https://business.stgeorgechamber.com/events/details/all-about-baby-expo-04-11-2015-6372
END:VEVENT

END:VCALENDAR
