BEGIN:VCALENDAR
VERSION:2.0
PRODID:-//ChamberMaster//Event Calendar 2.0//EN
METHOD:PUBLISH
X-PUBLISHED-TTL:P3D
REFRESH-INTERVAL:P3D
CALSCALE:GREGORIAN
BEGIN:VEVENT
DTSTART:20141116T023000Z
DTEND:20141116T050000Z
X-MICROSOFT-CDO-ALLDAYEVENT:FALSE
SUMMARY:Air Supply in Concert at Tuacahn
DESCRIPTION:Probing love's' many dimensions and touching hearts everywhere has been Air Supply's sole ambition from the start. "All Out of Love"\, Lost In Love"\, "Here I Am\," " The One That You Love"\, "Making Love out of Nothing At All\," and "Sweet Dreams" are just a few of the many Top 5 hits the band has enjoyed since 1975\, when Australian-born Russell Hitchcock and U.K. Native Graham Russell met while appearing together in an Australian production of Jesus Christ Superstar.\n\nTheir first Australian single\, " Love and Other Bruises\," hit No. 2 in 1976\, and their debut album turned Gold in six weeks. In 1980. "Lost In Love" became a major worldwide hit\, and the group's future success was assured.
X-ALT-DESC;FMTTYPE=text/html:<p>Probing love&#39\;s&#39\; many dimensions and touching hearts everywhere has been Air Supply&#39\;s sole ambition from the start. &quot\;All Out of Love&quot\;\, Lost In Love&quot\;\, &quot\;Here I Am\,&quot\; &quot\; The One That You Love&quot\;\, &quot\;Making Love out of Nothing At All\,&quot\; and &quot\;Sweet Dreams&quot\; are just a few of the many Top 5 hits the band has enjoyed since 1975\, when Australian-born Russell Hitchcock and U.K. Native Graham Russell met while appearing together in an Australian production of Jesus Christ Superstar.</p>\n\n<p>Their first Australian single\, &quot\; Love and Other Bruises\,&quot\; hit No. 2 in 1976\, and their debut album turned Gold in six weeks. In 1980. &quot\;Lost In Love&quot\; became a major worldwide hit\, and the group&#39\;s future success was assured.</p>\n
LOCATION:Tuacahn Amphitheater 1100 Tuacahn Drive Ivins\, UT
UID:e.1117.6178
SEQUENCE:3
DTSTAMP:20260421T011204Z
URL:https://business.stgeorgechamber.com/events/details/air-supply-in-concert-at-tuacahn-11-15-2014-6178
END:VEVENT

END:VCALENDAR
