BEGIN:VCALENDAR
VERSION:2.0
PRODID:-//ChamberMaster//Event Calendar 2.0//EN
METHOD:PUBLISH
X-PUBLISHED-TTL:P3D
REFRESH-INTERVAL:P3D
CALSCALE:GREGORIAN
BEGIN:VEVENT
DTSTART:20160327T013000Z
DTEND:20160327T040000Z
X-MICROSOFT-CDO-ALLDAYEVENT:FALSE
SUMMARY:Air Supply in Concert at Tuacahn
DESCRIPTION:Graham Russell & Russell Hitchcock met on May 12\, 1975\, at rehearsals for "Jesus Christ Superstar" in Sydney\, Australia\; they became instant friends with their common love for The Beatles and\, of course\, singing.\n\nIn 1980 "Lost in Love" became the fastest selling single in the world\, leaping to the top of all of the charts and was named Song of the Year. Seven top-five singles later\, Air Supply at that time had equaled The Beatles' run of consecutive top five singles. The albums Lost in Love\, The One That You Love\, Now & Forever\, and The Greatest Hits sold in excess of 20 million copies.\n\nThe trademark sound of Russell Hitchcock's soaring tenor voice and Graham Russell's simple yet majestic songs created a unique sound that would forever be known as Air Supply.
X-ALT-DESC;FMTTYPE=text/html:Graham Russell &amp\; Russell Hitchcock met on May 12\, 1975\, at rehearsals for &quot\;Jesus Christ Superstar&quot\; in Sydney\, Australia\; they became instant friends with their common love for The Beatles and\, of course\, singing.<br />\nIn 1980 &quot\;Lost in Love&quot\; became the fastest selling single in the world\, leaping to the top of all of the charts and was named Song of the Year. Seven top-five singles later\, Air Supply at that time had equaled The Beatles&#39\; run of consecutive top five singles. The albums Lost in Love\, The One That You Love\, Now &amp\; Forever\, and The Greatest Hits sold in excess of 20 million copies.<br />\nThe trademark sound of Russell Hitchcock&#39\;s soaring tenor voice and Graham Russell&#39\;s simple yet majestic songs created a unique sound that would forever be known as Air Supply.
LOCATION:Tuacahn Amphitheater 1100 Tuacahn Drive Ivins\, Utah
UID:e.1117.8496
SEQUENCE:3
DTSTAMP:20260419T215849Z
URL:https://business.stgeorgechamber.com/events/details/air-supply-in-concert-at-tuacahn-03-26-2016-8496
END:VEVENT

END:VCALENDAR
