BEGIN:VCALENDAR
VERSION:2.0
PRODID:-//ChamberMaster//Event Calendar 2.0//EN
METHOD:PUBLISH
X-PUBLISHED-TTL:P3D
REFRESH-INTERVAL:P3D
CALSCALE:GREGORIAN
BEGIN:VEVENT
DTSTART:20160819T160000Z
DTEND:20160819T170000Z
X-MICROSOFT-CDO-ALLDAYEVENT:FALSE
SUMMARY:Active Aging Lecture: What is Lymphedema? & How to Prevent It!
DESCRIPTION:Today's lecture presentation is entitled "What is Lymphedema? & How to Prevent It!"  Presented by Lorraine Moe\, OT\, Certified Lymphedema Therapist\n\n\n\nActive Aging programs are affiliated with Intermountain Healthcare's LiVe Well Center and presents weekly educational lectures on healthy lifestyle behaviors\, clinical information\, strategies for successful aging and more.
X-ALT-DESC;FMTTYPE=text/html:Today&#39\;s lecture presentation is entitled &quot\;What is Lymphedema? &amp\; How to Prevent It!&quot\; &nbsp\;Presented by Lorraine Moe\, OT\, Certified Lymphedema Therapist<br />\n<br />\nActive Aging programs are affiliated with Intermountain Healthcare&#39\;s LiVe Well Center and presents weekly educational lectures on healthy lifestyle behaviors\, clinical information\, strategies for successful aging and more.
LOCATION:SelectHealth Auditorium 1424 E. Foremaster Drive St. George
UID:e.1117.9645
SEQUENCE:3
DTSTAMP:20260421T083404Z
URL:https://business.stgeorgechamber.com/events/details/active-aging-lecture-what-is-lymphedema-how-to-prevent-it-08-19-2016-9645
END:VEVENT

END:VCALENDAR
