BEGIN:VCALENDAR
VERSION:2.0
PRODID:-//ChamberMaster//Event Calendar 2.0//EN
METHOD:PUBLISH
X-PUBLISHED-TTL:P3D
REFRESH-INTERVAL:P3D
CALSCALE:GREGORIAN
BEGIN:VEVENT
DTSTART:20150515T160000Z
DTEND:20150515T170000Z
X-MICROSOFT-CDO-ALLDAYEVENT:FALSE
SUMMARY:Active Aging Lecture: What I've Learned Along the Way
DESCRIPTION:Today's lecture presentation is entitled "What I've Learned Along the Way" and presented by Patrick Sapio\, MSW.\n\nActive Aging programs are affiliated with Intermountain Healthcare's LiVe Well Center and presents weekly educational lectures on healthy lifestyle behaviors\, clinical information\, strategies for successful aging and more.
X-ALT-DESC;FMTTYPE=text/html:Today&#39\;s lecture presentation is entitled &quot\;What I&#39\;ve Learned Along the Way&quot\; and presented by Patrick Sapio\, MSW.<br />\nActive Aging programs are affiliated with Intermountain Healthcare&#39\;s LiVe Well Center and presents weekly educational lectures on healthy lifestyle behaviors\, clinical information\, strategies for successful aging and more.
LOCATION:SelectHealth Auditorium 1424 E. Foremaster Drive St. George
UID:e.1117.6407
SEQUENCE:3
DTSTAMP:20260420T154807Z
URL:https://business.stgeorgechamber.com/events/details/active-aging-lecture-what-i-ve-learned-along-the-way-05-15-2015-6407
END:VEVENT

END:VCALENDAR
