BEGIN:VCALENDAR
VERSION:2.0
PRODID:-//ChamberMaster//Event Calendar 2.0//EN
METHOD:PUBLISH
X-PUBLISHED-TTL:P3D
REFRESH-INTERVAL:P3D
CALSCALE:GREGORIAN
BEGIN:VEVENT
DTSTART:20150508T160000Z
DTEND:20150508T170000Z
X-MICROSOFT-CDO-ALLDAYEVENT:FALSE
SUMMARY:Active Aging Lecture: Laughter is the BEST Medicine
DESCRIPTION:Today's lecture presentation is entitled "Laughter is the BEST Medicine" and presented by Anne Murphy.\n\nActive Aging programs are affiliated with Intermountain Healthcare's LiVe Well Center and presents weekly educational lectures on healthy lifestyle behaviors\, clinical information\, strategies for successful aging and more.
X-ALT-DESC;FMTTYPE=text/html:Today&#39\;s lecture presentation is entitled &quot\;Laughter is the BEST Medicine&quot\; and presented by Anne Murphy.<br />\nActive Aging programs are affiliated with Intermountain Healthcare&#39\;s LiVe Well Center and presents weekly educational lectures on healthy lifestyle behaviors\, clinical information\, strategies for successful aging and more.
LOCATION:SelectHealth Auditorium 1424 E. Foremaster Drive St. George
UID:e.1117.6406
SEQUENCE:3
DTSTAMP:20260420T154942Z
URL:https://business.stgeorgechamber.com/events/details/active-aging-lecture-laughter-is-the-best-medicine-05-08-2015-6406
END:VEVENT

END:VCALENDAR
