BEGIN:VCALENDAR
VERSION:2.0
PRODID:-//ChamberMaster//Event Calendar 2.0//EN
METHOD:PUBLISH
X-PUBLISHED-TTL:P3D
REFRESH-INTERVAL:P3D
CALSCALE:GREGORIAN
BEGIN:VEVENT
DTSTART:20150501T160000Z
DTEND:20150501T170000Z
X-MICROSOFT-CDO-ALLDAYEVENT:FALSE
SUMMARY:Active Aging Lecture: End of Life--The Compassionate Journey
DESCRIPTION:Today's lecture presentation is entitled "End of Life:  The Compassionate Journey" and will be presented by Jim Dowd\, Dixie Regional's Chaplain and Kathy McKean\, RN and Chaplain\n\nActive Aging programs are affiliated with Intermountain Healthcare's LiVe Well Center and presents weekly educational lectures on healthy lifestyle behaviors\, clinical information\, strategies for successful aging and more.
X-ALT-DESC;FMTTYPE=text/html:Today&#39\;s lecture presentation is entitled &quot\;End of Life: &nbsp\;The Compassionate Journey&quot\; and will be presented by Jim Dowd\, Dixie Regional&#39\;s Chaplain and Kathy McKean\, RN and Chaplain<br />\nActive Aging programs are affiliated with Intermountain Healthcare&#39\;s LiVe Well Center and presents weekly educational lectures on healthy lifestyle behaviors\, clinical information\, strategies for successful aging and more.
LOCATION:SelectHealth Auditorium 1424 E. Foremaster Drive St. George
UID:e.1117.6405
SEQUENCE:3
DTSTAMP:20260420T155500Z
URL:https://business.stgeorgechamber.com/events/details/active-aging-lecture-end-of-life-the-compassionate-journey-05-01-2015-6405
END:VEVENT

END:VCALENDAR
