BEGIN:VCALENDAR
VERSION:2.0
PRODID:-//ChamberMaster//Event Calendar 2.0//EN
METHOD:PUBLISH
X-PUBLISHED-TTL:P3D
REFRESH-INTERVAL:P3D
CALSCALE:GREGORIAN
BEGIN:VEVENT
DTSTART:20150321T013000Z
DTEND:20150321T030000Z
X-MICROSOFT-CDO-ALLDAYEVENT:FALSE
SUMMARY:ABBAMania in Concert
DESCRIPTION:ABBAMANIA - The Magic and Music of ABBA\, with Special Guest FOREVER YOUNG: A Tribute To Rod Stewart\n\n"Outstanding...ABBAMANIA had done an even better job than our originals...They nailed the voices\, the accents\, and most importantly\, the vibe. Close your eyes and it could have been ABBA."-Sky News\, 2007\n\nTake a chance on ABBAMANIA. You won't be disappointed!\n\nThe world's number one touring ABBA tribute concert\, "ABBAMANIA" has been delighting sold-out audiences of all ages since 1999. This show has toured the world in its quest to bring the music of the Swedish super group to their millions of fans\, old and new.\n\nABBA's timeless songs were written to be enjoyed live and "ABBAMANIA" gives you exactly that\, two hours of uplifting\, dance-inducing\, and sometimes heart-breaking songs\, fully live with fantastic staging\, lighting and effects. The show recreates ABBA's sound not only perfectly\, but respectfully\, too. "ABBAMANIA" is not only for life-long\, die-hard ABBA fans but for the new generation of fans\, who never had the opportunity to see ABBA live. Hit after hit includes "Dancing Queen\," "Waterloo\," "Mamma Mia\," "The Winner Takes it All\," "Super Trouper\," "Fernando\," "Take A Chance On Me" and many more memorable songs that continue to fill dance floors and theatres worldwide.
X-ALT-DESC;FMTTYPE=text/html:ABBAMANIA - The Magic and Music of ABBA\, with Special Guest FOREVER YOUNG: A Tribute To Rod Stewart<br>\n"Outstanding...ABBAMANIA had done an even better job than our originals...They nailed the voices\, the accents\, and most importantly\, the vibe. Close your eyes and it could have been ABBA."-Sky News\, 2007<br>\nTake a chance on ABBAMANIA. You won't be disappointed!<br>\nThe world's number one touring ABBA tribute concert\, "ABBAMANIA" has been delighting sold-out audiences of all ages since 1999. This show has toured the world in its quest to bring the music of the Swedish super group to their millions of fans\, old and new.<br>\nABBA's timeless songs were written to be enjoyed live and "ABBAMANIA" gives you exactly that\, two hours of uplifting\, dance-inducing\, and sometimes heart-breaking songs\, fully live with fantastic staging\, lighting and effects. The show recreates ABBA's sound not only perfectly\, but respectfully\, too. "ABBAMANIA" is not only for life-long\, die-hard ABBA fans but for the new generation of fans\, who never had the opportunity to see ABBA live. Hit after hit includes "Dancing Queen\," "Waterloo\," "Mamma Mia\," "The Winner Takes it All\," "Super Trouper\," "Fernando\," "Take A Chance On Me" and many more memorable songs that continue to fill dance floors and theatres worldwide.
LOCATION:Tuacahn Amphitheatre 1100 Tuacahn Drive Ivins\, Utah
UID:e.1117.6293
SEQUENCE:3
DTSTAMP:20260420T203750Z
URL:https://business.stgeorgechamber.com/events/details/abbamania-in-concert-03-20-2015-6293
END:VEVENT

END:VCALENDAR
