BEGIN:VCALENDAR
VERSION:2.0
PRODID:-//ChamberMaster//Event Calendar 2.0//EN
METHOD:PUBLISH
X-PUBLISHED-TTL:P3D
REFRESH-INTERVAL:P3D
CALSCALE:GREGORIAN
BEGIN:VEVENT
DTSTART:20151112T020000Z
DTEND:20151112T023000Z
X-MICROSOFT-CDO-ALLDAYEVENT:FALSE
SUMMARY:A Tribute to Southern Utah Veterans
DESCRIPTION:KCSG Television will broadcast a Tribute to Southern Utah Veterans about local news stories of many Southern Utah Veterans who exemplify the sacrifices made by thousands of men and women for us to enjoy freedom. Stories will include the Southern Utah Veterans Honor Flight\, the Candy Bomber and the Southern Utah Veterans Home Eagle Guardian Dedication.
X-ALT-DESC;FMTTYPE=text/html:KCSG Television will broadcast a Tribute to Southern Utah Veterans about local news stories of many Southern Utah Veterans who exemplify the sacrifices made by thousands of men and women for us to enjoy freedom. Stories will include the Southern Utah Veterans Honor Flight\, the Candy Bomber and the Southern Utah Veterans Home Eagle Guardian Dedication.
LOCATION:It will broadcast Direct-TV channel 44\; Dish TV channel 37\; Comcast Cable channel 370\; TDS channel 6\, 86 - Hurricane\, Santa Clara\, St. George and Washington City\; and Reliance Cable channel 6 - Mesquite.
UID:e.1117.7339
SEQUENCE:3
DTSTAMP:20260420T051500Z
URL:https://business.stgeorgechamber.com/events/details/a-tribute-to-southern-utah-veterans-11-11-2015-7339
END:VEVENT

END:VCALENDAR
