BEGIN:VCALENDAR
VERSION:2.0
PRODID:-//ChamberMaster//Event Calendar 2.0//EN
METHOD:PUBLISH
X-PUBLISHED-TTL:P3D
REFRESH-INTERVAL:P3D
CALSCALE:GREGORIAN
BEGIN:VEVENT
DTSTART:20131025T160000Z
DTEND:20131027T000000Z
X-MICROSOFT-CDO-ALLDAYEVENT:FALSE
SUMMARY:A Taste of Dixie/Spookytown Festival
DESCRIPTION:Think OUTSIDE the box and INSIDE of the Square! The St. George Area Chamber of Commerce and the Washington County School District Foundation presents "a Taste of Dixie/Spookytown: Festival in the Square" in the St. George Town Square! This event is the best way for businesses\, artists\, entertainers\, and of course FOOD vendors to showcase themselves! With LIVE Entertainment\, a Kid's Play Area\, and thousands of attendees from around the world\, you can't miss this great marketing opportunity!
X-ALT-DESC;FMTTYPE=text/html:<span style="color:#0a0d0d\;"><span style="font-family:tahoma\,sans-serif\;"><span style="font-size:10.0pt\;">Think OUTSIDE the box and INSIDE of the Square! The St. George Area Chamber of Commerce and the Washington County School District Foundation presents &quot\;a Taste of Dixie/Spookytown: Festival in the Square&quot\; in the St. George Town Square! This event is the best way for businesses\, artists\, entertainers\, and of course FOOD vendors to showcase themselves! With LIVE Entertainment\, a Kid&#39\;s Play Area\, and thousands of attendees from around the world\, you can&#39\;t miss this great marketing opportunity!&nbsp\;</span></span></span>
LOCATION:Town Square St. George\, Utah
UID:e.1117.2962
SEQUENCE:3
DTSTAMP:20260421T200936Z
URL:https://business.stgeorgechamber.com/events/details/a-taste-of-dixie-spookytown-festival-10-25-2013-2962
END:VEVENT

END:VCALENDAR
