BEGIN:VCALENDAR
VERSION:2.0
PRODID:-//ChamberMaster//Event Calendar 2.0//EN
METHOD:PUBLISH
X-PUBLISHED-TTL:P3D
REFRESH-INTERVAL:P3D
CALSCALE:GREGORIAN
BEGIN:VEVENT
DTSTART:20150130T023000Z
DTEND:20150208T043000Z
X-MICROSOFT-CDO-ALLDAYEVENT:FALSE
SUMMARY:A STREETCAR NAMED DESIRE
DESCRIPTION:By Tennessee Williams Pulitzer Prize for Drama 1948 In Association with Dramatists Play Service\, Inc. Eccles Mainstage January 29\, 30\, 31\, February 3-7 7:30 pm
X-ALT-DESC;FMTTYPE=text/html:By Tennessee Williams Pulitzer Prize for Drama 1948 In Association with Dramatists Play Service\, Inc. Eccles Mainstage January 29\, 30\, 31\, February 3-7 7:30 pm
LOCATION:The Eccles Mainstage
UID:e.1117.6165
SEQUENCE:3
DTSTAMP:20260420T215351Z
URL:https://business.stgeorgechamber.com/events/details/a-streetcar-named-desire-01-29-2015-6165
END:VEVENT

END:VCALENDAR
