BEGIN:VCALENDAR
VERSION:2.0
PRODID:-//ChamberMaster//Event Calendar 2.0//EN
METHOD:PUBLISH
X-PUBLISHED-TTL:P3D
REFRESH-INTERVAL:P3D
CALSCALE:GREGORIAN
BEGIN:VEVENT
DTSTART:20160416T210000Z
DTEND:20160417T000000Z
X-MICROSOFT-CDO-ALLDAYEVENT:FALSE
SUMMARY:A National Park Celebration
DESCRIPTION:Celebrating the Centennial of the National Park Service and the Spring Fundraiser for the Zion National Park Foundation.\n\n\n\nPublic festivities begin at 3:00 pm in the Zion Canyon Giant Screen Theatre Plaza with National Park exhibits and an exciting variety of interactive activities for children and the whole family.  Come enjoy the kickoff to National Park Week and a fee-free day in the park.   The Zion Canyon Giant Screen Theatre is generously donating all proceeds from both showings to the Zion National Park Foundation\, the official fundraising partner of Zion National Park\, and Pipe Spring and Cedar Breaks National Monuments.
X-ALT-DESC;FMTTYPE=text/html:Celebrating the Centennial of the National Park Service and the Spring Fundraiser for the Zion National Park Foundation.<br />\n<br />\nPublic festivities begin at 3:00 pm in the Zion Canyon Giant Screen Theatre Plaza with National Park exhibits and an exciting variety of interactive activities for children and the whole family.&nbsp\; Come enjoy the kickoff to National Park Week and a fee-free day in the park.&nbsp\;&nbsp\; The Zion Canyon Giant Screen Theatre is generously donating all proceeds from both showings to the Zion National Park Foundation\, the official fundraising partner of Zion National Park\, and Pipe Spring and Cedar Breaks National Monuments.&nbsp\;<br />\n&nbsp\;
LOCATION:
UID:e.1117.8542
SEQUENCE:3
DTSTAMP:20260419T215336Z
URL:https://business.stgeorgechamber.com/events/details/a-national-park-celebration-04-16-2016-8542
END:VEVENT

END:VCALENDAR
