BEGIN:VCALENDAR
VERSION:2.0
PRODID:-//ChamberMaster//Event Calendar 2.0//EN
METHOD:PUBLISH
X-PUBLISHED-TTL:P3D
REFRESH-INTERVAL:P3D
CALSCALE:GREGORIAN
BEGIN:VEVENT
DTSTART:20130501T140000Z
DTEND:20130501T180000Z
X-MICROSOFT-CDO-ALLDAYEVENT:FALSE
SUMMARY:A Healthier Workforce: The Value of a Tobacco Free Workforce Summit
DESCRIPTION:Join us as we examine the economic impact tobacco use has on your Utah business. Learn firsthand from leading Utah companies how to maximize human capital by creating a tobacco-free workplace.Every year\, each employee who uses tobacco costs his or her employer an average of $3\,383 in lost productivity and medical expenses. More importantly\, 82% of tobacco users want to quit! And we can help by better understanding the resources that we have available to us. As business leaders\, we have the ability to influence positive change. \n\n	\n\n	\n		Venue: Marriott City Center\, 220 S. State St. Salt Lake City\, UT 84111 \n	\n		\n\n		Cost: Free - sponsored by the Utah Tobacco Prevention Task Force \n	\n		\n\n		Details: Breakfast will be provided and self-parking is free to participants. \n	\n		\n\n		Topics will include:\n	\n		\n\n		  How tobacco cessation requirements under the Affordable Care Act (ACA) may affect your business.\n	\n		\n\n		  Cessation resources available for your employees. \n	\n		\n\n		  How recent changes to the Utah Indoor Clean Air Act (UICAA) may affect your legal rights and responsibilities.\n	\n		\n\n		  Resources and tools on how to create a tobacco-free work environment. \n	\n		\n\n		  Success stories from leading Utah businesses that are tobacco free.\n	\n		\n\n		Who should attend? Business owners\, managers\, human resources staff\, interested health professionals\, and health plan representatives. \n\n		\n\n		The Southwest Utah Public Health Department will be providing 3 travel scholarships to cover the cost of travel\, lodging\, and food for one employee per organization.  \n	\n		\n\n		Questions? Jordan Mathis 435-986-2593
X-ALT-DESC;FMTTYPE=text/html:<div>\n	Join us as we examine the economic impact tobacco use has on your Utah business. Learn firsthand from leading Utah companies how to maximize human capital by creating a tobacco-free workplace.Every year\, each employee who uses tobacco costs his or her employer an average of $3\,383 in lost productivity and medical expenses. More importantly\, 82% of tobacco users want to quit! And we can help&mdash\;by better understanding the resources that we have available to us. As business leaders\, we have the ability to influence positive change.&nbsp\;</div>\n<div>\n	<br />\n	<div>\n		<strong>Venue:</strong> Marriott City Center\, 220 S. State St. Salt Lake City\, UT 84111&nbsp\;</div>\n	<div>\n		<br />\n		<strong>Cost:</strong> Free - sponsored by the Utah Tobacco Prevention Task Force&nbsp\;</div>\n	<div>\n		<br />\n		<strong>Details</strong>: Breakfast will be provided and self-parking is free to participants.&nbsp\;</div>\n	<div>\n		<br />\n		<u><strong>Topics will include:</strong></u></div>\n	<div>\n		<br />\n		&bull\; How tobacco cessation requirements under the Affordable Care Act (ACA) may affect your business.</div>\n	<div>\n		<br />\n		&bull\; Cessation resources available for your employees.&nbsp\;</div>\n	<div>\n		<br />\n		&bull\; How recent changes to the Utah Indoor Clean Air Act (UICAA) may affect your legal rights and responsibilities.</div>\n	<div>\n		<br />\n		&bull\; Resources and tools on how to create a tobacco-free work environment.&nbsp\;</div>\n	<div>\n		<br />\n		&bull\; Success stories from leading Utah businesses that are tobacco free.</div>\n	<div>\n		<br />\n		Who should attend? Business owners\, managers\, human resources staff\, interested health professionals\, and health plan representatives.&nbsp\;<br />\n		<br />\n		<strong>The Southwest Utah Public Health Department will be providing 3 travel scholarships to cover the cost of travel\, lodging\, and food for one employee per organization. &nbsp\;</strong></div>\n	<div>\n		<br />\n		Questions? Jordan Mathis 435-986-2593<br />\n		<br />\n		&nbsp\;</div>\n	<br />\n	&nbsp\;</div>\n<br />\n
LOCATION:Marriott City Center 220 S. State Street
UID:e.1117.2916
SEQUENCE:3
DTSTAMP:20260422T042030Z
URL:https://business.stgeorgechamber.com/events/details/a-healthier-workforce-the-value-of-a-tobacco-free-workforce-summit-05-01-2013-2916
END:VEVENT

END:VCALENDAR
