BEGIN:VCALENDAR
VERSION:2.0
PRODID:-//ChamberMaster//Event Calendar 2.0//EN
METHOD:PUBLISH
X-PUBLISHED-TTL:P3D
REFRESH-INTERVAL:P3D
CALSCALE:GREGORIAN
BEGIN:VEVENT
DTSTART:20141222T020000Z
DTEND:20141222T030000Z
X-MICROSOFT-CDO-ALLDAYEVENT:FALSE
SUMMARY:A Celtic Christmas with Odan
DESCRIPTION:Join us as Odan performs Christmas classics with a Celtic twist
X-ALT-DESC;FMTTYPE=text/html:Join us as Odan performs Christmas classics with a Celtic twist
LOCATION:St. George Tabernacle
UID:e.1117.6227
SEQUENCE:3
DTSTAMP:20260420T233836Z
URL:https://business.stgeorgechamber.com/events/details/a-celtic-christmas-with-odan-12-21-2014-6227
END:VEVENT

END:VCALENDAR
