BEGIN:VCALENDAR
VERSION:2.0
PRODID:-//ChamberMaster//Event Calendar 2.0//EN
METHOD:PUBLISH
X-PUBLISHED-TTL:P3D
REFRESH-INTERVAL:P3D
CALSCALE:GREGORIAN
BEGIN:VEVENT
DTSTART:20130911T140000Z
DTEND:20130911T190000Z
X-MICROSOFT-CDO-ALLDAYEVENT:FALSE
SUMMARY:9/11 Charity Golf Tournament
DESCRIPTION:Delta Disaster Services is having a 9/11 charity golf tournament to benefit the Southern Utah Veteran's home in Ivins.  Player spots and sponsorships are still available.
X-ALT-DESC;FMTTYPE=text/html:Delta Disaster Services is having a 9/11 charity golf tournament to benefit the Southern Utah Veteran&#39\;s home in Ivins. &nbsp\;Player spots and sponsorships are still available.
LOCATION:Ledges Golf Course 1585 W Ledges Parkway St George Utah
UID:e.1117.4261
SEQUENCE:3
DTSTAMP:20260421T213744Z
URL:https://business.stgeorgechamber.com/events/details/9-11-charity-golf-tournament-09-11-2013-4261
END:VEVENT

END:VCALENDAR
