BEGIN:VCALENDAR
VERSION:2.0
PRODID:-//ChamberMaster//Event Calendar 2.0//EN
METHOD:PUBLISH
X-PUBLISHED-TTL:P3D
REFRESH-INTERVAL:P3D
CALSCALE:GREGORIAN
BEGIN:VEVENT
DTSTART:20150215T020000Z
DTEND:20150215T060000Z
X-MICROSOFT-CDO-ALLDAYEVENT:FALSE
SUMMARY:7th Annual Sweetheart Swing
DESCRIPTION:Attend the Seventh Annual Sweetheart Swing on Valentine's Day!  Swing to live music by Southern Utah Rebel Jazz Band.
X-ALT-DESC;FMTTYPE=text/html:<span style="font-size:14.0pt\;">Attend the Seventh Annual Sweetheart Swing&nbsp\;on Valentine&#39\;s Day!&nbsp\; Swing to live music by Southern Utah Rebel Jazz Band. &nbsp\;&nbsp\;</span>
LOCATION:St. George Children's Museum 86 South Main Street\, 3rd Floor St. George
UID:e.1117.6285
SEQUENCE:3
DTSTAMP:20260420T205133Z
URL:https://business.stgeorgechamber.com/events/details/7th-annual-sweetheart-swing-02-14-2015-6285
END:VEVENT

END:VCALENDAR
