BEGIN:VCALENDAR
VERSION:2.0
PRODID:-//ChamberMaster//Event Calendar 2.0//EN
METHOD:PUBLISH
X-PUBLISHED-TTL:P3D
REFRESH-INTERVAL:P3D
CALSCALE:GREGORIAN
BEGIN:VEVENT
DTSTART:20150128T190000Z
DTEND:20150129T020000Z
X-MICROSOFT-CDO-ALLDAYEVENT:FALSE
SUMMARY:5th Annual Morris Murdock Travel Show
DESCRIPTION:You are invited to the 5th Annual Morris Murdock Travel Show here in St. George.  Morris Murdock Travel is bringing 45 travel companies covering destinations around the world.  All of the top companies will be there:  Princess\, Royal Caribbean\, Disney\, Viking River Cruises\, Delta Vacations\, FunJet Vacations and so many more.  Holland America is doing their fun and entertaining On Stage Alaska presentation at both 1:00 PM and 3:00 PM.  Enter to win a 7-day cruise on Princess Cruise Lines.  Free information\, show specials and travel seminars.
X-ALT-DESC;FMTTYPE=text/html:<span style="font-family:calibri\,sans-serif\;"><span style="font-size:16.0pt\;">You are invited to the 5<sup>th</sup> Annual Morris Murdock Travel Show here in St. George.&nbsp\; Morris Murdock Travel is bringing 45 travel companies covering destinations around the world.&nbsp\; All of the top companies will be there:&nbsp\; Princess\, Royal Caribbean\, Disney\, Viking River Cruises\, Delta Vacations\, FunJet Vacations and so many more.&nbsp\; Holland America is doing their fun and entertaining On Stage Alaska presentation at both 1:00 PM and 3:00 PM.&nbsp\; Enter to win a 7-day cruise on Princess Cruise Lines.&nbsp\; Free information\, show specials and travel seminars. &nbsp\;</span></span>
LOCATION:Dixie Convention Center 1835 Convention Center Drive St. George
UID:e.1117.6265
SEQUENCE:3
DTSTAMP:20260420T221004Z
URL:https://business.stgeorgechamber.com/events/details/5th-annual-morris-murdock-travel-show-01-28-2015-6265
END:VEVENT

END:VCALENDAR
