BEGIN:VCALENDAR
VERSION:2.0
PRODID:-//ChamberMaster//Event Calendar 2.0//EN
METHOD:PUBLISH
X-PUBLISHED-TTL:P3D
REFRESH-INTERVAL:P3D
CALSCALE:GREGORIAN
BEGIN:VEVENT
DTSTART:20140517T140000Z
DTEND:20140517T180000Z
X-MICROSOFT-CDO-ALLDAYEVENT:FALSE
SUMMARY:5K & Quarter Marathon
DESCRIPTION:THE IRON COUNTY CHILDRENS JUSTICE CENTER annual 5K and Quarter Marathon will be held May 17\, 2014. The event will start at 8am at the Children?s Justice Center at 545 S 225 E in Cedar City. All proceeds will go to support the Children?s Justice Center in their efforts against child abuse. The Children?s Justice Center is a nonprofit organization that coordinates with Law Enforcement and Child Protective Services in providing the best care possible to child victims and their families. Entry fees are $25.00 for the 5K and $25.00 for the Quarter Marathon.  Team Category available for 5 or more people contact the Center directly for Team signups. Awards and prizes will be given away at the conclusion of the race. With a grand prize of a Kindle Fire and an opportunity to win an entry into the St George Marathon.  Please call the Center at (435) 867-4275 for registration information\, or you can register online at active.com at  https://www.active.com/event_detail.cfm?event_id=2126816
X-ALT-DESC;FMTTYPE=text/html:THE IRON COUNTY CHILDRENS JUSTICE CENTER annual 5K and Quarter Marathon will be held May 17\, 2014. The event will start at 8am at the Children?s Justice Center at 545 S 225 E in Cedar City. All proceeds will go to support the Children?s Justice Center in their efforts against child abuse. The Children?s Justice Center is a nonprofit organization that coordinates with Law Enforcement and Child Protective Services in providing the best care possible to child victims and their families. Entry fees are $25.00 for the 5K and $25.00 for the Quarter Marathon. &nbsp\;Team Category available for 5 or more people contact the Center directly for Team signups. Awards and prizes will be given away at the conclusion of the race. With a grand prize of a Kindle Fire and an opportunity to win an entry into the St George Marathon. &nbsp\;Please call the Center at (435) 867-4275 for registration information\, or you can register online at active.com at&nbsp\; https://www.active.com/event_detail.cfm?event_id=2126816
LOCATION:Children's Justice Center at 545 S 225 E in Cedar City
UID:e.1117.5232
SEQUENCE:3
DTSTAMP:20260421T112127Z
URL:https://business.stgeorgechamber.com/events/details/5k-quarter-marathon-05-17-2014-5232
END:VEVENT

END:VCALENDAR
