BEGIN:VCALENDAR
VERSION:2.0
PRODID:-//ChamberMaster//Event Calendar 2.0//EN
METHOD:PUBLISH
X-PUBLISHED-TTL:P3D
REFRESH-INTERVAL:P3D
CALSCALE:GREGORIAN
BEGIN:VEVENT
DTSTART:20140802T020000Z
DTEND:20140803T040000Z
X-MICROSOFT-CDO-ALLDAYEVENT:FALSE
SUMMARY:4th Annual Veyo Cinder Valley Lions Rodeo
DESCRIPTION:Categories include:\n\n\n\nJr. & Sr. Breakaway\n\nJr. & Sr. Calf Roping\n\nJr. & Sr. Barrels\n\nSpecial Barrels\n\nSpecial Breakaway\n\nChicken Chase\n\nGreased Pig Chase\n\nOpen Team Roping\n\nMixed Team Roping\n\nRibbon Roping\n\nMutton Bustin\n\n\n\n **Entries will be taken July 25-29.
X-ALT-DESC;FMTTYPE=text/html:Categories include:<br />\n<br />\nJr. &amp\; Sr. Breakaway<br />\nJr. &amp\; Sr. Calf Roping<br />\nJr. &amp\; Sr. Barrels<br />\nSpecial Barrels<br />\nSpecial Breakaway<br />\nChicken Chase<br />\nGreased Pig Chase<br />\nOpen Team Roping<br />\nMixed Team Roping<br />\nRibbon Roping<br />\nMutton Bustin<br />\n<br />\n&#8203\;**Entries will be taken July 25-29. &nbsp\;<br />\n&nbsp\;
LOCATION:New Veyo Rodeo Arena Chad Ranch Road--across from the cemetery/park
UID:e.1117.5900
SEQUENCE:3
DTSTAMP:20260421T055318Z
URL:https://business.stgeorgechamber.com/events/details/4th-annual-veyo-cinder-valley-lions-rodeo-08-01-2014-5900
END:VEVENT

END:VCALENDAR
