BEGIN:VCALENDAR
VERSION:2.0
PRODID:-//ChamberMaster//Event Calendar 2.0//EN
METHOD:PUBLISH
X-PUBLISHED-TTL:P3D
REFRESH-INTERVAL:P3D
CALSCALE:GREGORIAN
BEGIN:VEVENT
DTSTART:20140923T190000Z
DTEND:20140924T000000Z
X-MICROSOFT-CDO-ALLDAYEVENT:FALSE
SUMMARY:4th Annual Fall Recovery Classic
DESCRIPTION:Join us for the 4th Annual Fall Recovery Classic\, hosted by Ther pia Addiction Healing Center. This event is sure to be a great day of golf & networking with addiction and clinical professionals.\n\nWe look forward to seeing you September 23\, 2014 at The Ledges in St. George\, Utah. The Ledges Golf Club offers world class golf. You'll admire the natural beauty and breathtaking views of the surrounding sandstone mountains while enjoying a round of golf.\n\nThe following day\, kicks off the Utah Fall Substance Abuse Conference to be held at the Dixie Convention Center September 24-26\, 2014 in St. George\, Utah.  We are proud to be a sponsor of this event. The Utah Fall Substance Abuse Conference continues to be the premier educational and networking event in the Mountain West. You are cordially invited to network with your colleagues\, as you learn from national and local leaders in the Substance Abuse field.
X-ALT-DESC;FMTTYPE=text/html:<p style="margin: 0px 0px 18px\; padding: 0px\; font-family: Arial\, Helvetica\, sans-serif\; font-size: 12px\; line-height: 17.399999618530273px\; background-color: rgb(246\, 246\, 246)\;">Join us for the 4th Annual Fall Recovery Classic\, hosted by Ther&aacute\;pia Addiction Healing Center. This event is sure to be a great day of golf &amp\; networking with addiction and clinical professionals.<br />\nWe look forward to seeing you September 23\, 2014 at The Ledges in St. George\, Utah. The Ledges Golf Club offers world class golf. You&#39\;ll admire the natural beauty and breathtaking views of the surrounding sandstone mountains while enjoying a round of golf.<br />\nThe following day\, kicks off the Utah Fall Substance Abuse Conference to be held at the Dixie Convention Center September 24-26\, 2014 in St. George\, Utah.&nbsp\; We are proud to be a sponsor of this event. The Utah Fall Substance Abuse Conference continues to be the premier educational and networking event in the Mountain West. You are cordially invited to network with your colleagues\, as you learn from national and local leaders in the Substance Abuse field.</p>\n
LOCATION:The Ledges Golf Club 1585 Ledges Parkway St. George\, UT 84770
UID:e.1117.6036
SEQUENCE:3
DTSTAMP:20260421T054118Z
URL:https://business.stgeorgechamber.com/events/details/4th-annual-fall-recovery-classic-09-23-2014-6036
END:VEVENT

END:VCALENDAR
