BEGIN:VCALENDAR
VERSION:2.0
PRODID:-//ChamberMaster//Event Calendar 2.0//EN
METHOD:PUBLISH
X-PUBLISHED-TTL:P3D
REFRESH-INTERVAL:P3D
CALSCALE:GREGORIAN
BEGIN:VEVENT
DTSTART;VALUE=DATE:20150904
DTEND;VALUE=DATE:20150907
TRANSP:TRANSPARENT
X-MICROSOFT-CDO-ALLDAYEVENT:TRUE
SUMMARY:3rd Annual Eureka Labor Day Rod Run
DESCRIPTION:
X-ALT-DESC;FMTTYPE=text/html:
LOCATION:Eureka Casino Hotel 275 Mesa Blvd. Mesquite\, NV
UID:e.1117.7080
SEQUENCE:3
DTSTAMP:20260420T100149Z
URL:https://business.stgeorgechamber.com/events/details/3rd-annual-eureka-labor-day-rod-run-09-04-2015-7080
END:VEVENT

END:VCALENDAR
