BEGIN:VCALENDAR
VERSION:2.0
PRODID:-//ChamberMaster//Event Calendar 2.0//EN
METHOD:PUBLISH
X-PUBLISHED-TTL:P3D
REFRESH-INTERVAL:P3D
CALSCALE:GREGORIAN
BEGIN:VEVENT
DTSTART:20140418T160000Z
DTEND:20140420T000000Z
X-MICROSOFT-CDO-ALLDAYEVENT:FALSE
SUMMARY:35th Annual St. George Art Festival
DESCRIPTION:The St. George Art Festival showcases the many artists who call St. George their home. Over the years it has expanded to include over 110 artists juried from hundreds of entries from throughout the United States. This festival has regional appeal for both artists and festival goers. Displaying thousands of original works of art\, the festival is punctuated with pageantry\, music and food. The festival takes place in the beautiful Town Square\, the centerpiece of the Historic District\, and is known for consistently outstanding artwork.
X-ALT-DESC;FMTTYPE=text/html:The St. George Art Festival showcases the many artists who call St. George their home. Over the years it has expanded to include over 110 artists juried from hundreds of entries from throughout the United States. This festival has regional appeal for both artists and festival goers. Displaying thousands of original works of art\, the festival is punctuated with pageantry\, music and food. The festival takes place in the beautiful Town Square\, the centerpiece of the Historic District\, and is known for consistently outstanding artwork.
LOCATION:Main Street between Tabernacle and St. George Blvd. and in the Town Square
UID:e.1117.5183
SEQUENCE:3
DTSTAMP:20260421T130020Z
URL:https://business.stgeorgechamber.com/events/details/35th-annual-st-george-art-festival-04-18-2014-5183
END:VEVENT

END:VCALENDAR
